BEGIN:VCALENDAR
VERSION:2.0
PRODID:-//ChamberMaster//Event Calendar 2.0//EN
METHOD:PUBLISH
X-PUBLISHED-TTL:P3D
REFRESH-INTERVAL:P3D
CALSCALE:GREGORIAN
BEGIN:VEVENT
DTSTART:20151006T120000Z
DTEND:20151006T133000Z
X-MICROSOFT-CDO-ALLDAYEVENT:FALSE
SUMMARY:Manufacturers Appreciation Breakfast 2015
DESCRIPTION:The 9th Annual Manufacturer's Appreciation Breakfast will be held to recognize the manufacturing industry in Fergus Falls on Tuesday\, October 6\, 2015 at the Roosevelt Learning Center.  Manufacturers are invited to attend this event at no charge\, but RSVP is required. In addition\, Modern Manufacturing Learning Lab donors are welcome to join us with an RSVP.  Businesses are encouraged to support our manufacturing industry by attending ($10 per person) or be a sponsor for $100.\n\n\n\nSpeakers Include: Mayor Hal Leland\, Evan Westra- West Tool & Design\, Jeff Ackerson- EIC Chair\, Vector Windows\n\n \n\nBreakfast will be from Zens Creative Catering.\n\n\n\nThe event is sponsored by the Fergus Falls Area Chamber of Commerce\, The Fergus Falls Economic Improvement Commission and the Minnesota WorkForce Center\, Fergus Falls office.
X-ALT-DESC;FMTTYPE=text/html:<div>The 9th Annual Manufacturer&rsquo\;s Appreciation Breakfast&nbsp\;will be held to recognize the manufacturing industry in Fergus Falls on Tuesday\, October 6\, 2015 at the Roosevelt Learning Center.&nbsp\; Manufacturers are invited to attend this event&nbsp\;at no&nbsp\;charge\, but RSVP is required. In addition\, Modern Manufacturing Learning Lab donors are welcome to join us with an RSVP.&nbsp\; Businesses are encouraged to support our manufacturing industry by attending ($10 per person) or&nbsp\;be a sponsor for&nbsp\;$100.</div>\n\n<div><br />\nSpeakers Include:&nbsp\;Mayor Hal Leland\, Evan Westra- West Tool &amp\; Design\, Jeff Ackerson- EIC Chair\, Vector Windows</div>\n\n<div>&nbsp\;</div>\n\n<div>Breakfast will be from Zens Creative Catering.<br />\n<br />\nThe event is sponsored by the Fergus Falls Area Chamber of Commerce\, The Fergus Falls Economic Improvement Commission and the Minnesota WorkForce Center\, Fergus Falls office.</div>\n
LOCATION:Roosevelt Learning Center (park in Community Arena lot and enter at circle driveway doors)
UID:e.314.24181
SEQUENCE:3
DTSTAMP:20260426T030057Z
URL:https://business.fergusfalls.com/events/details/manufacturers-appreciation-breakfast-2015-10-06-2015-24181
END:VEVENT

END:VCALENDAR
