BEGIN:VCALENDAR
VERSION:2.0
PRODID:-//ChamberMaster//Event Calendar 2.0//EN
METHOD:PUBLISH
X-PUBLISHED-TTL:P3D
REFRESH-INTERVAL:P3D
CALSCALE:GREGORIAN
BEGIN:VEVENT
DTSTART;VALUE=DATE:20160417
DTEND;VALUE=DATE:20160501
TRANSP:TRANSPARENT
X-MICROSOFT-CDO-ALLDAYEVENT:TRUE
SUMMARY:Marimekko for Target
DESCRIPTION:Come and check out Target in Fergus Falls to see our latest designer release\, Marimekko. We have patio decor\, home decor\, women's and girls clothing! All colors and patterns are fun for summer!
X-ALT-DESC;FMTTYPE=text/html:Come and check out Target in Fergus Falls to see our latest designer release\, Marimekko. We have patio decor\, home decor\, women&#39\;s and girls clothing! All colors and patterns are fun for summer!
LOCATION:Target Fergus Falls
UID:e.314.32633
SEQUENCE:3
DTSTAMP:20260425T162815Z
URL:https://business.fergusfalls.com/events/details/marimekko-for-target-04-17-2016-32633
END:VEVENT

END:VCALENDAR
