BEGIN:VCALENDAR
VERSION:2.0
PRODID:-//ChamberMaster//Event Calendar 2.0//EN
METHOD:PUBLISH
X-PUBLISHED-TTL:P3D
REFRESH-INTERVAL:P3D
CALSCALE:GREGORIAN
BEGIN:VEVENT
DTSTART;VALUE=DATE:20151106
DTEND;VALUE=DATE:20151107
TRANSP:TRANSPARENT
X-MICROSOFT-CDO-ALLDAYEVENT:TRUE
SUMMARY:Market Turns 10! Happy Birthday!!
DESCRIPTION:TODAY IS THE DAY!\n\nStop in! Help us celebrate our BIRTHDAY!\n\nThe Market turns 10!!\n\nDon't forget to take a selfie with 'Leslie'... hashtag ?# marketturns10?...get your name in a drawing for great 'market' prizes!!
X-ALT-DESC;FMTTYPE=text/html:<span style="font-size: 18px\;"><strong><span style="color: rgb(75\, 0\, 130)\;"><span style="font-family: helvetica\,arial\,sans-serif\;">TODAY IS THE DAY!</span><br />\n<span style="font-family: helvetica\,arial\,sans-serif\;">Stop in! Help us celebrate our BIRTHDAY!</span><br />\n<span style="font-family: helvetica\,arial\,sans-serif\;">The Market turns 10!!</span><br />\n<span style="font-family: helvetica\,arial\,sans-serif\;">Don&#39\;t forget to take a selfie with &#39\;Leslie&#39\;... hashtag&nbsp\;</span></span><a class="_58cn" href="https://www.facebook.com/hashtag/marketturns10?source=feed_text&amp\;story_id=929994483746287" style="color: rgb(59\, 89\, 152)\; line-height: 19.32px\; font-family: helvetica\, arial\, sans-serif\; font-size: 14px\; text-decoration: none\; cursor: pointer\; background-color: rgb(255\, 255\, 255)\;"><span style="color: rgb(75\, 0\, 130)\;">?#&lrm\;marketturns10?</span></a><span style="color: rgb(75\, 0\, 130)\;"><span style="font-family: helvetica\,arial\,sans-serif\;">...get your name in a drawing for great &#39\;market&#39\; prizes!!</span></span></strong></span>
LOCATION:120 S Union Ave
UID:e.314.26452
SEQUENCE:3
DTSTAMP:20260426T030601Z
URL:https://business.fergusfalls.com/events/details/market-turns-10-happy-birthday-11-06-2015-26452
END:VEVENT

END:VCALENDAR
