BEGIN:VCALENDAR
VERSION:2.0
PRODID:-//ChamberMaster//Event Calendar 2.0//EN
METHOD:PUBLISH
X-PUBLISHED-TTL:P3D
REFRESH-INTERVAL:P3D
CALSCALE:GREGORIAN
BEGIN:VEVENT
DTSTART:20151203T233000Z
DTEND:20151204T033000Z
X-MICROSOFT-CDO-ALLDAYEVENT:FALSE
SUMMARY:Marketplace - See the Christmas Story come alive!
DESCRIPTION:See the Christmas Story come alive!\n\nTour Bethlehem with your own Roman Centurion guide and follow the excited shepherds to the manger. Journeys begin every 10 minutes and will last approximately one hour.\n\nFamilies welcome!\n\nCall the church office at 218.736.2764 to make your reservation today. *Reservations are required.\n\nEnter the building from the parking lot and arrive 5-10 minutes early. We look forward to having you!
X-ALT-DESC;FMTTYPE=text/html:<p style="border: 0px\; outline: 0px\; font-size: 18px\; vertical-align: baseline\; margin: 24px 0px\; padding: 0px\; color: rgb(68\, 68\, 68)\; font-family: 'Open Sans'\, Arial\, Helvetica\, sans-serif\; line-height: 28.8px\; background-image: initial\; background-attachment: initial\; background-size: initial\; background-origin: initial\; background-clip: initial\; background-position: initial\; background-repeat: initial\;">See the Christmas Story come alive!</p>\n\n<p style="border: 0px\; outline: 0px\; font-size: 18px\; vertical-align: baseline\; margin: 24px 0px\; padding: 0px\; color: rgb(68\, 68\, 68)\; font-family: 'Open Sans'\, Arial\, Helvetica\, sans-serif\; line-height: 28.8px\; background-image: initial\; background-attachment: initial\; background-size: initial\; background-origin: initial\; background-clip: initial\; background-position: initial\; background-repeat: initial\;">Tour Bethlehem with your own Roman Centurion guide and follow the excited shepherds to the manger. Journeys begin every 10 minutes and will last approximately one hour.</p>\n\n<p style="border: 0px\; outline: 0px\; font-size: 18px\; vertical-align: baseline\; margin: 24px 0px\; padding: 0px\; color: rgb(68\, 68\, 68)\; font-family: 'Open Sans'\, Arial\, Helvetica\, sans-serif\; line-height: 28.8px\; background-image: initial\; background-attachment: initial\; background-size: initial\; background-origin: initial\; background-clip: initial\; background-position: initial\; background-repeat: initial\;">Families welcome!</p>\n\n<p style="border: 0px\; outline: 0px\; font-size: 18px\; vertical-align: baseline\; margin: 24px 0px\; padding: 0px\; color: rgb(68\, 68\, 68)\; font-family: 'Open Sans'\, Arial\, Helvetica\, sans-serif\; line-height: 28.8px\; background-image: initial\; background-attachment: initial\; background-size: initial\; background-origin: initial\; background-clip: initial\; background-position: initial\; background-repeat: initial\;">Call the church office at 218.736.2764 to make your reservation today. *Reservations are required.</p>\n\n<p style="border: 0px\; outline: 0px\; font-size: 18px\; vertical-align: baseline\; margin: 24px 0px\; padding: 0px\; color: rgb(68\, 68\, 68)\; font-family: 'Open Sans'\, Arial\, Helvetica\, sans-serif\; line-height: 28.8px\; background-image: initial\; background-attachment: initial\; background-size: initial\; background-origin: initial\; background-clip: initial\; background-position: initial\; background-repeat: initial\;">Enter the building from the parking lot and arrive 5-10 minutes early. We look forward to having you!</p>\n
LOCATION:Church of the Nazarene 1319 N. Cleveland Ave. Fergus Falls\, MN
UID:e.314.26933
SEQUENCE:3
DTSTAMP:20260425T234141Z
URL:https://business.fergusfalls.com/events/details/marketplace-see-the-christmas-story-come-alive-12-03-2015-26933
END:VEVENT

END:VCALENDAR
