BEGIN:VCALENDAR
VERSION:2.0
PRODID:-//ChamberMaster//Event Calendar 2.0//EN
METHOD:PUBLISH
X-PUBLISHED-TTL:P3D
REFRESH-INTERVAL:P3D
CALSCALE:GREGORIAN
BEGIN:VEVENT
DTSTART:20190926T220000Z
DTEND:20190927T000000Z
X-MICROSOFT-CDO-ALLDAYEVENT:FALSE
SUMMARY:Meal by Wheels 9th Annual Community Fundraiser
DESCRIPTION:9th Annual Community Fundraiser\n\nServing "Underwood Lion" Pork Chops\, Beans\, Coleslaw\, Bread\, Bars and Beverage.
X-ALT-DESC;FMTTYPE=text/html:9th Annual Community Fundraiser<br />\nServing &quot\;Underwood Lion&quot\; Pork Chops\, Beans\, Coleslaw\, Bread\, Bars and Beverage.<br />\n&nbsp\;
LOCATION:First Lutheran Church - Fellowship Hall 402 S Court St. Fergus Falls MN 56537 **Use West Door-From West Parking Lot
UID:e.314.54587
SEQUENCE:3
DTSTAMP:20260422T222518Z
URL:https://business.fergusfalls.com/events/details/meal-by-wheels-9th-annual-community-fundraiser-54587
END:VEVENT

END:VCALENDAR
