BEGIN:VCALENDAR
VERSION:2.0
PRODID:-//ChamberMaster//Event Calendar 2.0//EN
METHOD:PUBLISH
X-PUBLISHED-TTL:P3D
REFRESH-INTERVAL:P3D
CALSCALE:GREGORIAN
BEGIN:VEVENT
DTSTART:20180511T000000Z
DTEND:20180511T013000Z
X-MICROSOFT-CDO-ALLDAYEVENT:FALSE
SUMMARY:Meet Bestselling Author William Kent Krueger
DESCRIPTION:Save the date: William Kent Krueger will be speaking at Legacy Hall. This community appreciation event is free and open to all. Thank you for supporting our library! It is sponsored by the Fergus Falls Public Library and is supported in part with a Chris D. Olson Event and Programming grant from the Minnesota Association of Library Friends.
X-ALT-DESC;FMTTYPE=text/html:Save the date: William Kent Krueger will be speaking at Legacy Hall. This community appreciation event is free and open to all. Thank you for supporting our library! It is sponsored by the Fergus Falls Public Library and is supported in part with a Chris D. Olson Event and Programming grant from the Minnesota Association of Library Friends.
LOCATION:Minnesota State Community and Technical College\, Legacy Hall 1414 College Way\, Fergus Falls\, MN 56537
UID:e.314.43927
SEQUENCE:3
DTSTAMP:20260423T235610Z
URL:https://business.fergusfalls.com/events/details/meet-bestselling-author-william-kent-krueger-43927
END:VEVENT

END:VCALENDAR
