BEGIN:VCALENDAR
VERSION:2.0
PRODID:-//ChamberMaster//Event Calendar 2.0//EN
METHOD:PUBLISH
X-PUBLISHED-TTL:P3D
REFRESH-INTERVAL:P3D
CALSCALE:GREGORIAN
BEGIN:VEVENT
DTSTART:20181201T180000Z
DTEND:20181201T190000Z
X-MICROSOFT-CDO-ALLDAYEVENT:FALSE
SUMMARY:Meet & Greet - for Vikings RB Ted Brown
DESCRIPTION:Lincoln Nutrition in Downtown FF will be hosting a Meet 'n Greet with former Vikings RB Ted Brown from 12-1 PM\, during Over the River\, at their shop. Stop in for a picture and autograph!
X-ALT-DESC;FMTTYPE=text/html:&nbsp\;<a class="profileLink" data-hovercard="/ajax/hovercard/page.php?id=288189008578003&amp\;extragetparams=%7B%22__tn__%22%3A%22%2CdK-R-R%22%2C%22eid%22%3A%22ARCRQVm4il3pPs3FOR1DpDp2iiOxr39WK72l6pbPuDBu1Rii1uIwELF_vzHBMXLcXTdZMPT8cV9y6uDY%22%2C%22fref%22%3A%22mentions%22%2C%22directed_target_id%22%3A273994410113645%7D" data-hovercard-prefer-more-content-show="1" href="https://www.facebook.com/Lincoln-Nutrition-288189008578003/?__tn__=K-R&amp\;eid=ARCRQVm4il3pPs3FOR1DpDp2iiOxr39WK72l6pbPuDBu1Rii1uIwELF_vzHBMXLcXTdZMPT8cV9y6uDY&amp\;fref=mentions&amp\;__xts__%5B0%5D=68.ARAP1IA8TLwM2E7SE7QW3essdQMc426jGaBnmkIg3g9jksMD1ZgnqW0IR8rfb4BV6kvIhSTN43yXm65U0umhfYs3cUGV8aqG0Hrs1PF87nYBzOf1j7TxoXjqY6cP57w7j0_08c1lfR7pyAn9iljh_bGnj1ixMV_V2yMmrnuQ37psjF1pMK6O97PCM2XRyEYSOAbzZwvIJhx2XUGonsJn2-L8oECUlkuZwbhQQc59g4QWDQBgnlD0DdwnApTPGmi2iKg8atMovJOwi8N8uqriLpLCwf0bkIDIq_0ah79BxrAx7jnzjO57Hzs_J7m3B7xxSXEOECLDncrbaOab8vBPSlAimHyzg0RCKaCD1zsZzVue-pdb"><font color="#0066cc">Lincoln Nutrition</font></a> in Downtown FF will be hosting a Meet &#39\;n Greet with former Vikings RB Ted Brown from 12-1 PM\, during Over the River\, at their shop. Stop in for a picture and autograph!
LOCATION:Lincoln Nurrition Lincoln Ave Downtown Fergus Falls
UID:e.314.51954
SEQUENCE:3
DTSTAMP:20260423T122203Z
URL:https://business.fergusfalls.com/events/details/meet-greet-for-vikings-rb-ted-brown-51954
END:VEVENT

END:VCALENDAR
