BEGIN:VCALENDAR
VERSION:2.0
PRODID:-//ChamberMaster//Event Calendar 2.0//EN
METHOD:PUBLISH
X-PUBLISHED-TTL:P3D
REFRESH-INTERVAL:P3D
CALSCALE:GREGORIAN
BEGIN:VEVENT
DTSTART:20170324T163000Z
DTEND:20170324T170000Z
X-MICROSOFT-CDO-ALLDAYEVENT:FALSE
SUMMARY:Meet McLovin at New Dimensions!
DESCRIPTION:Head over to New Dimensions Home Health Care in Fergus Falls on March 24th and hang out with Channel 977's McLovin! You'll also have the opportunity to take home some Channel 977 swag!
X-ALT-DESC;FMTTYPE=text/html:<span class="_4n-j _3cht fsl" data-testid="event-permalink-details">Head over to New Dimensions Home Health Care in Fergus Falls on March 24th and hang out with Channel 977&#39\;s McLovin! You&#39\;ll also have the opportunity to take home some Channel 977 swag!</span>
LOCATION:New Dimensions Home Health Care 312 N Tower Rd\, Fergus Falls
UID:e.314.38928
SEQUENCE:3
DTSTAMP:20260424T224649Z
URL:https://business.fergusfalls.com/events/details/meet-mclovin-at-new-dimensions-38928
END:VEVENT

END:VCALENDAR
