BEGIN:VCALENDAR
VERSION:2.0
PRODID:-//ChamberMaster//Event Calendar 2.0//EN
METHOD:PUBLISH
X-PUBLISHED-TTL:P3D
REFRESH-INTERVAL:P3D
CALSCALE:GREGORIAN
BEGIN:VEVENT
DTSTART:20151022T193000Z
DTEND:20151022T210000Z
X-MICROSOFT-CDO-ALLDAYEVENT:FALSE
SUMMARY:Meet the Author Stan Tekiela
DESCRIPTION:Naturalist\, wildlife photographer and writer Stan Tekiela is the originator of the popular state-specific field guides for those who wnt to identify the common birds\, wildflowers\, trees\, reptiles or amphibians found in their state. Stan has authored more than 130 field guides\, nature appreciation books and wildlife audio CDs for nearly every state in the nation.\n\nJoin Victor Lundeens for a meet the author and book signing event on Thursday\, October 22nd from 2:30 - 4 p.m.
X-ALT-DESC;FMTTYPE=text/html:<span class="fsl">Naturalist\, wildlife photographer and writer Stan Tekiela is the originator of the popular state-specific field guides for those who wnt to identify the common birds\, wildflowers\, trees\, reptiles or amphibians found in their state. Stan has authored more than 130 field guides\, nature appreciation books and wildlife audio CDs for nearly every state in the nation.<br />\nJoin Victor Lundeens for a meet the author and book signing event on Thursday\, October 22nd from 2:30 - 4 p.m.</span>
LOCATION:Victor Lundeen Company 126 W Lincoln Ave\, Fergus Falls\, Minnesota 56537
UID:e.314.25084
SEQUENCE:3
DTSTAMP:20260426T030055Z
URL:https://business.fergusfalls.com/events/details/meet-the-author-stan-tekiela-10-22-2015-25084
END:VEVENT

END:VCALENDAR
