BEGIN:VCALENDAR
VERSION:2.0
PRODID:-//ChamberMaster//Event Calendar 2.0//EN
METHOD:PUBLISH
X-PUBLISHED-TTL:P3D
REFRESH-INTERVAL:P3D
CALSCALE:GREGORIAN
BEGIN:VEVENT
DTSTART:20180816T223000Z
DTEND:20180816T230000Z
X-MICROSOFT-CDO-ALLDAYEVENT:FALSE
SUMMARY:Meet The Otters Night
DESCRIPTION:Meet The Otters Night\nThe event will also have hot dogs\, chips\, cookies and water served from 5:30-6 p.m. for a free will donation. There will also be Otter football hats for sale.\n\nAt 6 p.m.\, the players will be introduced\, while a parents meeting will be held for athletes in grades 7 through 12. During the meeting\, fans can go on the turf\, play games and have players in grades 9 through 12 sign autographs or take photos with them. Fans are encouraged to try out the football flings\, participate in games and activities.\n\nAll players in all grades can pick up Otter cards that night and clothing order forms will be available. \n\nIf the event can not be held outside due to weather\, the event will be moved indoors to the Maroon Gym at Kennedy Secondary School.\nInformation courtesy of The Daily Journal
X-ALT-DESC;FMTTYPE=text/html:<div class="_5xhp fsm fwn fcg"><span style="font-size: 14px\;"><strong><span style="font-size: 20px\;">Meet The Otters Night</span></strong></span>\n<p class="p4" style="background: none\; margin: 0px 0px 15px\; text-align: left\; color: rgb(34\, 34\, 34)\; text-transform: none\; line-height: 19.5px\; text-indent: 0px\; letter-spacing: normal\; overflow: hidden\; font-size: 15px\; font-style: normal\; font-variant: normal\; font-weight: 400\; text-decoration: none\; word-spacing: 0px\; white-space: normal\; orphans: 2\; text-shadow: none\; -webkit-text-stroke-width: 0px\;"><span class="s2" style="background: none\; text-shadow: none\;">The event will also have hot dogs\, chips\, cookies and water served from 5:30-6 p.m. for a free will donation. There will also be Otter football hats for sale.</span></p>\n\n<p class="p4" style="background: none\; margin: 0px 0px 15px\; text-align: left\; color: rgb(34\, 34\, 34)\; text-transform: none\; line-height: 19.5px\; text-indent: 0px\; letter-spacing: normal\; overflow: hidden\; font-size: 15px\; font-style: normal\; font-variant: normal\; font-weight: 400\; text-decoration: none\; word-spacing: 0px\; white-space: normal\; orphans: 2\; text-shadow: none\; -webkit-text-stroke-width: 0px\;"><span class="s2" style="background: none\; text-shadow: none\;">At 6 p.m.\, the players will be introduced\, while a parents meeting will be held for athletes in grades 7 through 12. During the meeting\, fans can go on the turf\, play games and have players in grades 9 through 12 sign autographs or take photos with them. Fans are encouraged to try out the football flings\, participate in games and activities.</span></p>\n\n<p class="p4" style="background: none\; margin: 0px 0px 15px\; text-align: left\; color: rgb(34\, 34\, 34)\; text-transform: none\; line-height: 19.5px\; text-indent: 0px\; letter-spacing: normal\; overflow: hidden\; font-size: 15px\; font-style: normal\; font-variant: normal\; font-weight: 400\; text-decoration: none\; word-spacing: 0px\; white-space: normal\; orphans: 2\; text-shadow: none\; -webkit-text-stroke-width: 0px\;"><span class="s2" style="background: none\; text-shadow: none\;">All players in all grades can pick up Otter cards that night and clothing order forms will be available.&nbsp\;</span></p>\n\n<p class="p4" style="background: none\; margin: 0px 0px 15px\; text-align: left\; color: rgb(34\, 34\, 34)\; text-transform: none\; line-height: 19.5px\; text-indent: 0px\; letter-spacing: normal\; overflow: hidden\; font-size: 15px\; font-style: normal\; font-variant: normal\; font-weight: 400\; text-decoration: none\; word-spacing: 0px\; white-space: normal\; orphans: 2\; text-shadow: none\; -webkit-text-stroke-width: 0px\;"><span class="s2" style="background: none\; text-shadow: none\;">If the event can not be held outside due to weather\, the event will be moved indoors to the Maroon Gym at Kennedy Secondary School.</span></p>\n<a href="http://www.fergusfallsjournal.com/2018/08/ff-football-team-hosts-meet-the-otters-aug-16/">Information&nbsp\;courtesy of The Daily Journal </a></div>\n
LOCATION:Fergus Falls OTTER Football 602 Randolpf Ave\, Fergus Falls
UID:e.314.50309
SEQUENCE:3
DTSTAMP:20260423T181014Z
URL:https://business.fergusfalls.com/events/details/meet-the-otters-night-50309
END:VEVENT

END:VCALENDAR
