BEGIN:VCALENDAR
VERSION:2.0
PRODID:-//ChamberMaster//Event Calendar 2.0//EN
METHOD:PUBLISH
X-PUBLISHED-TTL:P3D
REFRESH-INTERVAL:P3D
CALSCALE:GREGORIAN
BEGIN:VEVENT
DTSTART:20200820T160000Z
DTEND:20200820T220000Z
X-MICROSOFT-CDO-ALLDAYEVENT:FALSE
SUMMARY:Meet Your Merchants - Open House Day
DESCRIPTION:GFF & FFDRC are hosting a city-wide open house tour of new and existing merchants\, open to the public. This is an opportunity to support new and existing businesses\, score deals for "back-to-school"\, and just support your community. Participating businesses will be added along with open house hours and the specials they'll be offering. \n\n\n\nAll businesses and customers should continue to follow safe reopening guidelines (i.e. masks\, hand sanitizer\, hand-washing\, social distancing\, etc.). \n\n\n\nThis is an open-ended event to accommodate foot traffic and a steady flow of guests. \n\n\n\nConfirmed Participants: \n\n	Fergus Falls Area Chamber of Commerce: 1:30-5 pm register to win $50 Fergus Bucks\, pick up FREE masks for your biz & have lunch from a local restaurant on our riverside patio - open to public.\n	715 Hot Heads: call Thursday to make an future appointment and enter for a chance to win free shampoo for 6 months.\n	Creative Handmade Goods / SoapWerks Naturals: 20% off everything\; free sample bar of soap\n	Liza Jayne's Home Decor And Gifts\n	Sugarbomb: 11 am - 5:30 pm - buy a 6-pack of craft soda and get a 7th bottle FREE | lollipop for each customer\n	Papacitos Burritos Fergus Falls: spin the wheel to win \n	Cora's Closet Upscale Consignment Boutique: 20% off storewide + drawing\n	The Welcome House Thrift Store: 25% off storewide\, draw a card to win additional discounts\n	Dandelion & Burdock Grand Opening Week\, storewide sales + free gift with $50 purchase\n	Fergus Home & Hardware/Cullen's Home Center: specials\, gift cards\, cloth shopping bag give-away\n	The bric\n	LA Nails - promotion of new Mill St. location\n	The Flower Mill Unique Floral Expressions: 20% storewide\, 50% off summer silks and $10 fresh garden bouquets\n	Don Pablo's Mexican Restaurant - Fergus Falls\, MN: Arroz Con Pollo $10.95 & Corona Extra $2.25\n	Rubyspinoyfood\n	Union Pizza & Brewing CO.\n	Country Store: specials\, gift cards\, cloth shopping bag give-away\n	Fergus Brewing Co.: $1 off pints and crowlers\, $2 off growler fills 25% off merchandise starting at 11 am\n	Outstate Brewing Company: $2 off floats (flights)\, and brew tours at 12\, 2 & 4 pm (between 12 and 5 pm)\n	Biffleys.Bookmark: 10% off storewide\, $3/pound of books\n	Victor Lundeen Company\n	Torri's Tangles to Treasures Weaving Studio and Gallery: weaving/spinning demonstration\, free samples of Terroir Chocolates and Quaranta Nougats\, 10% off yarn purchases\, FREE bar of woolwash laundry soap w/ $80 purchase of handwoven or hand-knit item.\n	Mauk Jewelers: 15% off storewide of in-stock merchandise and play 'Guess How Many Carats!' game Guess how many cubic zirconia are in a jar of rubbing alcohol! The person with the closest guess will win a jewelry care package\, which includes a jewelry traveling case\, and assorted jewelry cleaners valued at over $50.\n	Holistic Healing & Relaxation Center: $10 off 60 minute massage with Alexia Cross\, first time clients only\n	Sandy's Treasures\n	Uncle Eddie's \n	Kaddatz Galleries\n	Otter Cove Children's Museum\n	JK Sports: sale on in-stock Otter apparel\n\n\n\nOthers will be added as confirmations are received. \n\n\n\n#MeetYourMerchants
X-ALT-DESC;FMTTYPE=text/html:<span style="color: rgb(29\, 33\, 41)\; font-family: Helvetica\, Arial\, sans-serif\; font-size: 14px\; white-space: pre-wrap\;">GFF &amp\; FFDRC are hosting a city-wide open house tour of new and existing merchants\, open to the public. This is an opportunity to support new and existing businesses\, score deals for &quot\;back-to-school&quot\;\, and just support your community. Participating businesses will be added along with open house hours and the specials they&#39\;ll be offering. </span><br style="color: rgb(29\, 33\, 41)\; font-family: Helvetica\, Arial\, sans-serif\; font-size: 14px\; white-space: pre-wrap\;" />\n<br style="color: rgb(29\, 33\, 41)\; font-family: Helvetica\, Arial\, sans-serif\; font-size: 14px\; white-space: pre-wrap\;" />\n<span style="color: rgb(29\, 33\, 41)\; font-family: Helvetica\, Arial\, sans-serif\; font-size: 14px\; white-space: pre-wrap\;">All businesses and customers should continue to follow safe reopening guidelines (i.e. masks\, hand sanitizer\, hand-washing\, social distancing\, etc.). </span><br style="color: rgb(29\, 33\, 41)\; font-family: Helvetica\, Arial\, sans-serif\; font-size: 14px\; white-space: pre-wrap\;" />\n<br style="color: rgb(29\, 33\, 41)\; font-family: Helvetica\, Arial\, sans-serif\; font-size: 14px\; white-space: pre-wrap\;" />\n<span style="color: rgb(29\, 33\, 41)\; font-family: Helvetica\, Arial\, sans-serif\; font-size: 14px\; white-space: pre-wrap\;">This is an open-ended event to accommodate foot traffic and a steady flow of guests. </span><br style="color: rgb(29\, 33\, 41)\; font-family: Helvetica\, Arial\, sans-serif\; font-size: 14px\; white-space: pre-wrap\;" />\n<br style="color: rgb(29\, 33\, 41)\; font-family: Helvetica\, Arial\, sans-serif\; font-size: 14px\; white-space: pre-wrap\;" />\n<span style="color: rgb(29\, 33\, 41)\; font-family: Helvetica\, Arial\, sans-serif\; font-size: 14px\; white-space: pre-wrap\;">Confirmed Participants: </span>\n<ul>\n	<li><span style="color: rgb(29\, 33\, 41)\; font-family: Helvetica\, Arial\, sans-serif\; font-size: 14px\; white-space: pre-wrap\;">Fergus Falls Area Chamber of Commerce: 1:30-5 pm register to win $50 Fergus Bucks\, pick up FREE masks for your biz &amp\; have lunch from a local restaurant on our riverside patio - open to public.</span></li>\n	<li><span style="color: rgb(29\, 33\, 41)\; font-family: Helvetica\, Arial\, sans-serif\; font-size: 14px\; white-space: pre-wrap\;">715 Hot Heads: call Thursday to make an future appointment and enter for a chance to win free shampoo for 6 months.</span></li>\n	<li><span style="color: rgb(29\, 33\, 41)\; font-family: Helvetica\, Arial\, sans-serif\; font-size: 14px\; white-space: pre-wrap\;">Creative Handmade Goods / SoapWerks Naturals: 20% off everything\; free sample bar of soap</span></li>\n	<li><span style="color: rgb(29\, 33\, 41)\; font-family: Helvetica\, Arial\, sans-serif\; font-size: 14px\; white-space: pre-wrap\;">Liza Jayne&rsquo\;s Home Decor And Gifts</span></li>\n	<li><span style="color: rgb(29\, 33\, 41)\; font-family: Helvetica\, Arial\, sans-serif\; font-size: 14px\; white-space: pre-wrap\;">Sugarbomb: 11 am - 5:30 pm - buy a 6-pack of craft soda and get a 7th bottle FREE | lollipop for each customer</span></li>\n	<li><span style="color: rgb(29\, 33\, 41)\; font-family: Helvetica\, Arial\, sans-serif\; font-size: 14px\; white-space: pre-wrap\;">Papacitos Burritos Fergus Falls: spin the wheel to win </span></li>\n	<li><span style="color: rgb(29\, 33\, 41)\; font-family: Helvetica\, Arial\, sans-serif\; font-size: 14px\; white-space: pre-wrap\;">Cora&#39\;s Closet Upscale Consignment Boutique: 20% off storewide + drawing</span></li>\n	<li><span style="color: rgb(29\, 33\, 41)\; font-family: Helvetica\, Arial\, sans-serif\; font-size: 14px\; white-space: pre-wrap\;">The Welcome House Thrift Store: 25% off storewide\, draw a card to win additional discounts</span></li>\n	<li><span style="color: rgb(29\, 33\, 41)\; font-family: Helvetica\, Arial\, sans-serif\; font-size: 14px\; white-space: pre-wrap\;">Dandelion &amp\; Burdock Grand Opening Week\, storewide sales + free gift with $50 purchase</span></li>\n	<li><span style="color: rgb(29\, 33\, 41)\; font-family: Helvetica\, Arial\, sans-serif\; font-size: 14px\; white-space: pre-wrap\;">Fergus Home &amp\; Hardware/Cullen&#39\;s Home Center: specials\, gift cards\, cloth shopping bag give-away</span></li>\n	<li><span style="color: rgb(29\, 33\, 41)\; font-family: Helvetica\, Arial\, sans-serif\; font-size: 14px\; white-space: pre-wrap\;">The bric</span></li>\n	<li><span style="color: rgb(29\, 33\, 41)\; font-family: Helvetica\, Arial\, sans-serif\; font-size: 14px\; white-space: pre-wrap\;">LA Nails - promotion of new Mill St. location</span></li>\n	<li><span style="color: rgb(29\, 33\, 41)\; font-family: Helvetica\, Arial\, sans-serif\; font-size: 14px\; white-space: pre-wrap\;">The Flower Mill Unique Floral Expressions: 20% storewide\, 50% off summer silks and $10 fresh garden bouquets</span></li>\n	<li><span style="color: rgb(29\, 33\, 41)\; font-family: Helvetica\, Arial\, sans-serif\; font-size: 14px\; white-space: pre-wrap\;">Don Pablo&#39\;s Mexican Restaurant - Fergus Falls\, MN: Arroz Con Pollo $10.95 &amp\; Corona Extra $2.25</span></li>\n	<li><span style="color: rgb(29\, 33\, 41)\; font-family: Helvetica\, Arial\, sans-serif\; font-size: 14px\; white-space: pre-wrap\;">Rubyspinoyfood</span></li>\n	<li><span style="color: rgb(29\, 33\, 41)\; font-family: Helvetica\, Arial\, sans-serif\; font-size: 14px\; white-space: pre-wrap\;">Union Pizza &amp\; Brewing CO.</span></li>\n	<li><span style="color: rgb(29\, 33\, 41)\; font-family: Helvetica\, Arial\, sans-serif\; font-size: 14px\; white-space: pre-wrap\;">Country Store: specials\, gift cards\, cloth shopping bag give-away</span></li>\n	<li><span style="color: rgb(29\, 33\, 41)\; font-family: Helvetica\, Arial\, sans-serif\; font-size: 14px\; white-space: pre-wrap\;">Fergus Brewing Co.: $1 off pints and crowlers\, $2 off growler fills 25% off merchandise starting at 11 am</span></li>\n	<li><span style="color: rgb(29\, 33\, 41)\; font-family: Helvetica\, Arial\, sans-serif\; font-size: 14px\; white-space: pre-wrap\;">Outstate Brewing Company: $2 off floats (flights)\, and brew tours at 12\, 2 &amp\; 4 pm (between 12 and 5 pm)</span></li>\n	<li><span style="color: rgb(29\, 33\, 41)\; font-family: Helvetica\, Arial\, sans-serif\; font-size: 14px\; white-space: pre-wrap\;">Biffleys.Bookmark: 10% off storewide\, $3/pound of books</span></li>\n	<li><span style="color: rgb(29\, 33\, 41)\; font-family: Helvetica\, Arial\, sans-serif\; font-size: 14px\; white-space: pre-wrap\;">Victor Lundeen Company</span></li>\n	<li><span style="color: rgb(29\, 33\, 41)\; font-family: Helvetica\, Arial\, sans-serif\; font-size: 14px\; white-space: pre-wrap\;">Torri&#39\;s Tangles to Treasures Weaving Studio and Gallery: weaving/spinning demonstration\, free samples of Terroir Chocolates and Quaranta Nougats\, 10% off yarn purchases\, FREE bar of woolwash laundry soap w/ $80 purchase of handwoven or hand-knit item.</span></li>\n	<li><span style="color: rgb(29\, 33\, 41)\; font-family: Helvetica\, Arial\, sans-serif\; font-size: 14px\; white-space: pre-wrap\;">Mauk Jewelers: 15% off storewide of in-stock merchandise and play &lsquo\;Guess How Many Carats!&rsquo\; game Guess how many cubic zirconia are in a jar of rubbing alcohol! The person with the closest guess will win a jewelry care package\, which includes a jewelry traveling case\, and assorted jewelry cleaners valued at over $50.</span></li>\n	<li><span style="color: rgb(29\, 33\, 41)\; font-family: Helvetica\, Arial\, sans-serif\; font-size: 14px\; white-space: pre-wrap\;">Holistic Healing &amp\; Relaxation Center: $10 off 60 minute massage with Alexia Cross\, first time clients only</span></li>\n	<li><span style="color: rgb(29\, 33\, 41)\; font-family: Helvetica\, Arial\, sans-serif\; font-size: 14px\; white-space: pre-wrap\;">Sandy&#39\;s Treasures</span></li>\n	<li><span style="color: rgb(29\, 33\, 41)\; font-family: Helvetica\, Arial\, sans-serif\; font-size: 14px\; white-space: pre-wrap\;">Uncle Eddie&#39\;s </span></li>\n	<li><span style="color: rgb(29\, 33\, 41)\; font-family: Helvetica\, Arial\, sans-serif\; font-size: 14px\; white-space: pre-wrap\;">Kaddatz Galleries</span></li>\n	<li><span style="color: rgb(29\, 33\, 41)\; font-family: Helvetica\, Arial\, sans-serif\; font-size: 14px\; white-space: pre-wrap\;">Otter Cove Children&#39\;s Museum</span></li>\n	<li><span style="color: rgb(29\, 33\, 41)\; font-family: Helvetica\, Arial\, sans-serif\; font-size: 14px\; white-space: pre-wrap\;">JK Sports: sale on in-stock Otter apparel</span></li>\n</ul>\n<br style="color: rgb(29\, 33\, 41)\; font-family: Helvetica\, Arial\, sans-serif\; font-size: 14px\; white-space: pre-wrap\;" />\n<span style="color: rgb(29\, 33\, 41)\; font-family: Helvetica\, Arial\, sans-serif\; font-size: 14px\; white-space: pre-wrap\;">Others will be added as confirmations are received. </span><br />\n<br />\n<a href="https://www.facebook.com/hashtag/meetyourmerchants?__eep__=6" style="color: rgb(56\, 88\, 152)\; cursor: pointer\; text-decoration-line: none\; font-family: Helvetica\, Arial\, sans-serif\; font-size: 14px\; white-space: pre-wrap\;" target="_blank">#MeetYourMerchants</a>
LOCATION:Fergus Falls city--wide
UID:e.314.57783
SEQUENCE:3
DTSTAMP:20260422T070540Z
URL:https://business.fergusfalls.com/events/details/meet-your-merchants-open-house-day-57783
END:VEVENT

END:VCALENDAR
