BEGIN:VCALENDAR
VERSION:2.0
PRODID:-//ChamberMaster//Event Calendar 2.0//EN
METHOD:PUBLISH
X-PUBLISHED-TTL:P3D
REFRESH-INTERVAL:P3D
CALSCALE:GREGORIAN
BEGIN:VEVENT
DTSTART:20171111T000000Z
DTEND:20171111T030000Z
X-MICROSOFT-CDO-ALLDAYEVENT:FALSE
SUMMARY:Melodrama Dinner Theatre @ Dining Car #423
DESCRIPTION:All Aboard the Dining Car -- Melodrama Dinner Theatre\n\nDining Car #423 presents the Fergus Falls Funtastics Theatre Troupe in "Choo Choo Chicanery."\n\nThe Funtastics bring their entertaining summer dinner theatre to Fergus Falls! Step aboard a 1920 train dining car in the newly renovated NP Depot\, just north of the Fergus Fall Public Library (under construction).\n\nGuest Chef Nick Aune prepares a gourmet Italian feast -- appetizer\, salad\, bread\, main course and dessert at intermission. \n\nTickets are $40 each with limited seating. It is a "Train Dining Car Show" after all.
X-ALT-DESC;FMTTYPE=text/html:<strong>All Aboard the Dining Car -- Melodrama Dinner Theatre</strong><br />\nDining Car #423 presents the Fergus Falls Funtastics&nbsp\;Theatre Troupe in &quot\;Choo Choo Chicanery.&quot\;<br />\nThe Funtastics bring their entertaining summer dinner theatre to Fergus Falls! Step aboard a 1920 train dining car in the newly renovated NP Depot\, just north of the Fergus Fall Public Library (under construction).<br />\nGuest Chef Nick Aune prepares a gourmet Italian feast -- appetizer\, salad\, bread\, main course and dessert at intermission.&nbsp\;<br />\nTickets are $40 each with limited seating. It is a &quot\;Train Dining Car Show&quot\; after all.
LOCATION:Dining Car #423 423 S. Cascade St. Fergus Falls (Plenty of parking)
UID:e.314.42835
SEQUENCE:3
DTSTAMP:20260424T074456Z
URL:https://business.fergusfalls.com/events/details/melodrama-dinner-theatre-choo-choo-chicanery-11-10-2017-42835
END:VEVENT

END:VCALENDAR
