BEGIN:VCALENDAR
VERSION:2.0
PRODID:-//ChamberMaster//Event Calendar 2.0//EN
METHOD:PUBLISH
X-PUBLISHED-TTL:P3D
REFRESH-INTERVAL:P3D
CALSCALE:GREGORIAN
BEGIN:VEVENT
DTSTART:20160514T000000Z
DTEND:20160514T030000Z
X-MICROSOFT-CDO-ALLDAYEVENT:FALSE
SUMMARY:MELTING POT JAM
DESCRIPTION:Melting Pot Jam
X-ALT-DESC;FMTTYPE=text/html:Melting Pot Jam
LOCATION:The Spot Panini & Wine 220 W Lincoln Ave\, Fergus Falls\, Minnesota 56537
UID:e.314.32686
SEQUENCE:3
DTSTAMP:20260425T145026Z
URL:https://business.fergusfalls.com/events/details/melting-pot-jam-05-13-2016-32686
END:VEVENT

END:VCALENDAR
