BEGIN:VCALENDAR
VERSION:2.0
PRODID:-//ChamberMaster//Event Calendar 2.0//EN
METHOD:PUBLISH
X-PUBLISHED-TTL:P3D
REFRESH-INTERVAL:P3D
CALSCALE:GREGORIAN
BEGIN:VEVENT
DTSTART:20190527T123000Z
DTEND:20190527T144500Z
X-MICROSOFT-CDO-ALLDAYEVENT:FALSE
SUMMARY:Memorial Day Murph
DESCRIPTION:Hosted by CrossFit Fergus Falls and New Beginnings Family Fitness\n\n\n\nEnjoy a morning of camaraderie\, fitness\, and remembering the heroes that have served our country.\n\n\n\nPlease message or comment on the event for what time you would like to come.\n\n7:30 AM\n\n8:10 AM\n\n8:45 AM
X-ALT-DESC;FMTTYPE=text/html:Hosted by <a data-hovercard="/ajax/hovercard/page.php?id=1517274708574115&amp\;extragetparams=%7B%22eid%22%3A%22ARBoVteXLnZLPK09C4itTe2kjtmHB0Nq2y9ai48p6dt9q8xjKn13d60koPNEY1FKL3KhHKBz5e4ExcOj%22%7D" data-hovercard-position="below" href="https://www.facebook.com/CrossFitFergusFalls/?eid=ARBoVteXLnZLPK09C4itTe2kjtmHB0Nq2y9ai48p6dt9q8xjKn13d60koPNEY1FKL3KhHKBz5e4ExcOj"><font color="#0066cc">CrossFit Fergus Falls</font></a> and <a data-hovercard="/ajax/hovercard/page.php?id=72329291472&amp\;extragetparams=%7B%22eid%22%3A%22ARDj0NYni0JsQ9rpfEMa9c3QNGr37CBYJR1D7lGYe8if18FyknCJvVzXRFht6bjJOQdtzq0_Kk0jdXZS%22%7D" data-hovercard-position="below" href="https://www.facebook.com/New-Beginnings-Family-Fitness-72329291472/?eid=ARDj0NYni0JsQ9rpfEMa9c3QNGr37CBYJR1D7lGYe8if18FyknCJvVzXRFht6bjJOQdtzq0_Kk0jdXZS"><font color="#0066cc">New Beginnings Family Fitness</font></a><br />\n<br />\n<span>Enjoy a morning of camaraderie\, fitness\, and remembering the heroes that have served our country.<br />\n<br />\nPlease message or comment on the event for what time you would like to come.<br />\n7:30 AM<br />\n8:10 AM<br />\n8:45 AM</span>
LOCATION:CrossFit Fergus Falls 619 S Cascade St\, Fergus Falls\, Minnesota 56537
UID:e.314.53962
SEQUENCE:3
DTSTAMP:20260423T050225Z
URL:https://business.fergusfalls.com/events/details/memorial-day-murph-53962
END:VEVENT

END:VCALENDAR
