BEGIN:VCALENDAR
VERSION:2.0
PRODID:-//ChamberMaster//Event Calendar 2.0//EN
METHOD:PUBLISH
X-PUBLISHED-TTL:P3D
REFRESH-INTERVAL:P3D
CALSCALE:GREGORIAN
BEGIN:VEVENT
DTSTART:20160530T143000Z
DTEND:20160530T154500Z
X-MICROSOFT-CDO-ALLDAYEVENT:FALSE
SUMMARY:Memorial Day Services
DESCRIPTION:Memorial Day Services are being held on Monday\, May 30th beginning at Veterans Park at 9:30 am followed immediately (tentatively 10:30 am) with ceremonies at VFW Post 612. This is a community event hosted by the American Legion Post 30 and VFW Post 612. Everyone is welcome
X-ALT-DESC;FMTTYPE=text/html:Memorial Day Services are being held on Monday\, May 30th beginning at Veterans Park at 9:30 am followed immediately (tentatively 10:30 am) with ceremonies at VFW Post 612. This is a community event hosted by the American Legion Post 30 and VFW Post 612. Everyone is welcome
LOCATION:Veterans Memorial Park
UID:e.314.32763
SEQUENCE:3
DTSTAMP:20260425T162841Z
URL:https://business.fergusfalls.com/events/details/memorial-day-services-05-30-2016-32763
END:VEVENT

END:VCALENDAR
