BEGIN:VCALENDAR
VERSION:2.0
PRODID:-//ChamberMaster//Event Calendar 2.0//EN
METHOD:PUBLISH
X-PUBLISHED-TTL:P3D
REFRESH-INTERVAL:P3D
CALSCALE:GREGORIAN
BEGIN:VEVENT
DTSTART:20190527T150000Z
DTEND:20190528T043000Z
X-MICROSOFT-CDO-ALLDAYEVENT:FALSE
SUMMARY:Memorial Day Services in Fergus Falls
DESCRIPTION:Traditional Memorial Day Services are scheduled.\n\n\n\n10:00 am\n\nBridge Ceremony at Veterans Park.\n\n\n\n10:30 am\n\nMemorial Day Ceremonies at VFW Post 612 followed by sandwiches\, coffee\, and fellowship.
X-ALT-DESC;FMTTYPE=text/html:<div class="_63ew" data-testid="event-permalink-details"><span>Traditional Memorial Day Services are scheduled.<br />\n<br />\n10:00 am<br />\nBridge Ceremony at Veterans Park.<br />\n<br />\n10:30 am<br />\nMemorial Day Ceremonies at VFW Post 612 followed by sandwiches\, coffee\, and fellowship.</span></div>\n
LOCATION:Veterans Park & Fergus Falls VFW Post 612
UID:e.314.53958
SEQUENCE:3
DTSTAMP:20260423T063044Z
URL:https://business.fergusfalls.com/events/details/memorial-day-services-in-fergus-falls-53958
END:VEVENT

END:VCALENDAR
