BEGIN:VCALENDAR
VERSION:2.0
PRODID:-//ChamberMaster//Event Calendar 2.0//EN
METHOD:PUBLISH
X-PUBLISHED-TTL:P3D
REFRESH-INTERVAL:P3D
CALSCALE:GREGORIAN
BEGIN:VEVENT
DTSTART:20160529T210000Z
DTEND:20160529T230000Z
X-MICROSOFT-CDO-ALLDAYEVENT:FALSE
SUMMARY:Memorial Weekend ride with 30 DOB President Patrick Stephenson
DESCRIPTION:30 Days of Biking founder and President Patrick Stephenson will be in Fergus Falls for the Memorial Day weekend. To commemorate his visit we'll go on a bike ride that features some of the cultural and architectural highlights of Fergus Falls! The ride will depart from Fergus Falls City Hall at 4:00 p.m. Total ride distance is about 7 miles\, and will be at a leisurely pace\, with a few stops along the way. After the ride we'll gather at Don Pablo's for food and beverages\, along with a conversation with Patrick about 30 Days of Biking! If you're not able to attend the ride but would like to join us at Don Pablo's\, we anticipate being there around 5:00 p.m.
X-ALT-DESC;FMTTYPE=text/html:30 Days of Biking founder and President Patrick Stephenson will be in Fergus Falls for the Memorial Day weekend. To commemorate his visit we&#39\;ll go on a bike ride that features some of the cultural and architectural highlights of Fergus Falls! The ride will depart from Fergus Falls City Hall at 4:00 p.m. Total ride distance is about 7 miles\, and will be at a leisurely pace\, with a few stops along the way. After the ride we&#39\;ll gather at Don Pablo&#39\;s for food and beverages\, along with a conversation with Patrick about 30 Days of Biking! If you&#39\;re not able to attend the ride but would like to join us at Don Pablo&#39\;s\, we anticipate being there around 5:00 p.m.
LOCATION:Ride leaves from Fergus Falls City Hall\; social event after the ride at Don Pablo's
UID:e.314.32772
SEQUENCE:3
DTSTAMP:20260425T163221Z
URL:https://business.fergusfalls.com/events/details/memorial-weekend-ride-with-30-dob-president-patrick-stephenson-05-29-2016-32772
END:VEVENT

END:VCALENDAR
