BEGIN:VCALENDAR
VERSION:2.0
PRODID:-//ChamberMaster//Event Calendar 2.0//EN
METHOD:PUBLISH
X-PUBLISHED-TTL:P3D
REFRESH-INTERVAL:P3D
CALSCALE:GREGORIAN
BEGIN:VEVENT
DTSTART:20151216T220000Z
DTEND:20151217T020000Z
X-MICROSOFT-CDO-ALLDAYEVENT:FALSE
SUMMARY:Men Only @ Mauk Jewelers
DESCRIPTION:Make the year's holiday gift giving easy\n\nMen Only\n\nJoin Us Wed Dec 16th 4-8pm\n\nShoot the breeze.\n\nTalk Sports.\n\nExchange Gift Ideas.\n\nDrink Some Brew.\n\nEnjoy Some Great Food!\n\n\n\n$50 Off Purchase of $195 or more + FREE gift wrapping while you enjoy a cold one!
X-ALT-DESC;FMTTYPE=text/html:Make the year&#39\;s holiday gift giving easy<br />\nMen Only<br />\nJoin Us Wed Dec 16th 4-8pm<br />\nShoot the breeze.<br />\nTalk Sports.<br />\nExchange Gift Ideas.<br />\nDrink Some Brew.<br />\nEnjoy Some Great Food!<br />\n<br />\n$50 Off Purchase of $195 or more + FREE gift wrapping while you enjoy a cold one!<br />\n<br />\n&nbsp\;
LOCATION:Mauk Jewelers 103 W Lincoln Ave Fergus Falls
UID:e.314.27799
SEQUENCE:3
DTSTAMP:20260426T011711Z
URL:https://business.fergusfalls.com/events/details/men-only-mauk-jewelers-12-16-2015-27799
END:VEVENT

END:VCALENDAR
