BEGIN:VCALENDAR
VERSION:2.0
PRODID:-//ChamberMaster//Event Calendar 2.0//EN
METHOD:PUBLISH
X-PUBLISHED-TTL:P3D
REFRESH-INTERVAL:P3D
CALSCALE:GREGORIAN
BEGIN:VEVENT
DTSTART:20241204T230000Z
DTEND:20241205T033000Z
X-MICROSOFT-CDO-ALLDAYEVENT:FALSE
SUMMARY:Merry Mix & Mingle Mobile Holiday Party
DESCRIPTION:The Chamber's Merry Mix & Mingle holiday social is back\, and we're taking the fun on the road again this year!\nIf you were a fan of the Chamber's TASTE of Fergus Falls\, you are going to LOVE the Merry Mix & Mingle. You and your friends/co-workers will travel around Fergus Falls for holiday fun at several local establishments and enjoy delicious appetizers and drinks. Play Merry Mix & Mingle BINGO for a chance win presents from Santa!\n\n\n\nThe Mobile Holiday Tour includes stops at:\n\n	Eagles\, check in from 5-5:30pm. Socialize\, enjoy appetizers and beverages while you Mingle & Bingo until 6:00pm.\n	2 Motorcoaches depart at 6:00pm en route to:\n	Otter Cove's Festival of Lights (battle of the busses for donations)\n	Don Pablo's - sample Mexican favorites\, margaritas\, Jarritos sodas\n	Oak + Iron & Provisions - try your skills at the Escape Room or Golf Simulator\n	Minnesota Motor Company - enjoy local craft beer samples\, hot cider and BINGO prizes\n\nAdvanced tickets only (21+) $50 per person\, including transportation\, one free drink\, and appetizers at each destination.\n\nSeats are limited.  Tickets are available to Chamber members until Monday\, November 25.\n\nOpen to the public starting November 26 (if tickets are available).\n\n\n\nTransportation is generously provided by Ottertail Minn-Dakota Coaches.
X-ALT-DESC;FMTTYPE=text/html:<h4>The Chamber&#39\;s Merry Mix &amp\; Mingle holiday social is back\, and we&#39\;re taking the fun on the road again this year!</h4>\nIf you were a fan of the Chamber&#39\;s TASTE of Fergus Falls\, you are going to LOVE the Merry Mix &amp\; Mingle. You and your friends/co-workers will travel around Fergus Falls for holiday fun at several local establishments and enjoy delicious appetizers and drinks. Play Merry Mix &amp\; Mingle BINGO for a chance win presents from Santa!<br />\n<br />\nThe Mobile Holiday Tour includes stops at:\n<ul>\n	<li>Eagles\, check in from 5-5:30pm. Socialize\, enjoy appetizers and beverages while you Mingle &amp\; Bingo until 6:00pm.</li>\n	<li>2 Motorcoaches depart at 6:00pm en route to:</li>\n	<li>Otter Cove&#39\;s Festival of Lights (battle of the busses for donations)</li>\n	<li>Don Pablo&#39\;s - sample Mexican favorites\, margaritas\, Jarritos sodas</li>\n	<li>Oak + Iron &amp\; Provisions - try your skills at the Escape Room&nbsp\;or Golf Simulator</li>\n	<li>Minnesota Motor Company - enjoy local craft beer samples\, hot cider and BINGO prizes</li>\n</ul>\nAdvanced tickets only (21+) $50 per person\, including&nbsp\;transportation\, one free drink\, and appetizers at each destination.<br />\nSeats are limited.&nbsp\; Tickets are available to Chamber members until Monday\, November 25.<br />\nOpen to the public starting November 26 (if tickets are available).<br />\n<br />\nTransportation is generously provided by Ottertail Minn-Dakota Coaches.<br />\n<br />\n&nbsp\;
LOCATION:Parking and Check-in: Eagles Aerie #2339 120 S. Peck St. Fergus Falls
UID:e.314.73511
SEQUENCE:3
DTSTAMP:20260426T011309Z
URL:https://business.fergusfalls.com/events/details/merry-mix-mingle-mobile-holiday-party-73511
END:VEVENT

END:VCALENDAR
