BEGIN:VCALENDAR
VERSION:2.0
PRODID:-//ChamberMaster//Event Calendar 2.0//EN
METHOD:PUBLISH
X-PUBLISHED-TTL:P3D
REFRESH-INTERVAL:P3D
CALSCALE:GREGORIAN
BEGIN:VEVENT
DTSTART:20190110T013000Z
DTEND:20190110T033000Z
X-MICROSOFT-CDO-ALLDAYEVENT:FALSE
SUMMARY:Mid Week Trivia @ The Spot Panini & Wine
DESCRIPTION:Trivia at The Spot Panini & Wine\n\nEvery Wed @ 7:30 pm
X-ALT-DESC;FMTTYPE=text/html:<span style="font-size: 18px\;"><strong>Trivia at The Spot Panini &amp\; Wine<br />\nEvery Wed @ 7:30 pm</strong></span>
LOCATION:Downtown Fergus Falls 220 W Lincoln Ave
UID:e.314.22001
SEQUENCE:3
DTSTAMP:20260423T105925Z
URL:https://business.fergusfalls.com/events/details/mid-week-trivia-the-spot-panini-wine-01-09-2019-22001
END:VEVENT

END:VCALENDAR
