BEGIN:VCALENDAR
VERSION:2.0
PRODID:-//ChamberMaster//Event Calendar 2.0//EN
METHOD:PUBLISH
X-PUBLISHED-TTL:P3D
REFRESH-INTERVAL:P3D
CALSCALE:GREGORIAN
BEGIN:VEVENT
DTSTART:20170314T233000Z
DTEND:20170315T010000Z
X-MICROSOFT-CDO-ALLDAYEVENT:FALSE
SUMMARY:Mid-Winter Wine Madness (or something like that!)
DESCRIPTION:Public   Tasting\n  Hosted by Sweet & Savory Kitchen and Lakes Country Wine Club\n\n\n\nOur third tasting event of 2017 will feature a selection of wines. Reservations for the event are required and must be purchased in advance. Seating is limited.
X-ALT-DESC;FMTTYPE=text/html:<div class="_5gnb">Public &middot\; Tasting\n<div content="Sweet &amp\; Savory Kitchen &amp\; Lakes Country Wine Club &amp\; " style="display: inline\;">&middot\; Hosted by <a data-hovercard="/ajax/hovercard/page.php?id=1744927729062102" data-hovercard-position="below" href="https://www.facebook.com/sweetandsavorykitchen/"><font color="#0066cc">Sweet &amp\; Savory Kitchen</font></a> and <a aria-controls="js_37y" aria-describedby="js_37z" aria-haspopup="true" data-hovercard="/ajax/hovercard/page.php?id=204024416674409" data-hovercard-position="below" href="https://www.facebook.com/Lakescountrywineclub/" id="js_380"><font color="#0066cc">Lakes Country Wine Club</font></a><br />\n<br />\n<span class="_4n-j _3cht fsl" data-testid="event-permalink-details">Our third tasting event of 2017 will feature a selection of wines. Reservations for the event are required and must be purchased in advance. Seating is limited.</span><br />\n&nbsp\;</div>\n</div>\n
LOCATION:The Spot Panini & Wine 220 W Lincoln Ave\, Fergus Falls\,
UID:e.314.38895
SEQUENCE:3
DTSTAMP:20260424T210322Z
URL:https://business.fergusfalls.com/events/details/mid-winter-wine-madness-or-something-like-that-38895
END:VEVENT

END:VCALENDAR
