BEGIN:VCALENDAR
VERSION:2.0
PRODID:-//ChamberMaster//Event Calendar 2.0//EN
METHOD:PUBLISH
X-PUBLISHED-TTL:P3D
REFRESH-INTERVAL:P3D
CALSCALE:GREGORIAN
BEGIN:VEVENT
DTSTART:20160520T210000Z
DTEND:20160521T040000Z
X-MICROSOFT-CDO-ALLDAYEVENT:FALSE
SUMMARY:Mike Karsnia Memorial Veterans Fundraiser & Dance
DESCRIPTION:Mike Karsnia lived to serve.\n\n\n\nA devoted husband\, father\, grandfather\, friend\, veteran\, community leader\, and patriot\, he dedicated his life to helping others.\n\n\n\nTo honor him\, VFW Post 612 has established this Veterans Fundraiser to continue his tireless pursuit of assisting the needs of local Veterans.\n\n\n\nRAFFLE\n\n1st Prize\n\nHowa Legacy 1500 6.5X55 Rifle\n\n\n\n2nd-5th Prizes\n\n(4) -   hogs donated by: Barry Septic Service\n\n218-826-6474\; processing donated by: Fergus Locker 218-736-4285 \n\n\n\nRaffle tickets available at VFW Post 612\, Otter Tail County Veterans Service Office\, or via VFW members
X-ALT-DESC;FMTTYPE=text/html:<span style="color: rgb(75\, 79\, 86)\; font-family: helvetica\, arial\, sans-serif\; font-size: 14px\; line-height: 18.76px\; background-color: rgb(255\, 255\, 255)\;">Mike Karsnia lived to serve.</span><br style="color: rgb(75\, 79\, 86)\; font-family: helvetica\, arial\, sans-serif\; font-size: 14px\; line-height: 18.76px\; background-color: rgb(255\, 255\, 255)\;" />\n<br style="color: rgb(75\, 79\, 86)\; font-family: helvetica\, arial\, sans-serif\; font-size: 14px\; line-height: 18.76px\; background-color: rgb(255\, 255\, 255)\;" />\n<span style="color: rgb(75\, 79\, 86)\; font-family: helvetica\, arial\, sans-serif\; font-size: 14px\; line-height: 18.76px\; background-color: rgb(255\, 255\, 255)\;">A devoted husband\, father\, grandfather\, friend\, veteran\, community leader\, and patriot\, he dedicated his life to helping others.</span><br style="color: rgb(75\, 79\, 86)\; font-family: helvetica\, arial\, sans-serif\; font-size: 14px\; line-height: 18.76px\; background-color: rgb(255\, 255\, 255)\;" />\n<br style="color: rgb(75\, 79\, 86)\; font-family: helvetica\, arial\, sans-serif\; font-size: 14px\; line-height: 18.76px\; background-color: rgb(255\, 255\, 255)\;" />\n<span style="color: rgb(75\, 79\, 86)\; font-family: helvetica\, arial\, sans-serif\; font-size: 14px\; line-height: 18.76px\; background-color: rgb(255\, 255\, 255)\;">To honor him\, VFW Post 612 has established this Veterans Fundraiser to continue his tireless pursuit of assisting the needs of local Veterans.</span><br style="color: rgb(75\, 79\, 86)\; font-family: helvetica\, arial\, sans-serif\; font-size: 14px\; line-height: 18.76px\; background-color: rgb(255\, 255\, 255)\;" />\n<br style="color: rgb(75\, 79\, 86)\; font-family: helvetica\, arial\, sans-serif\; font-size: 14px\; line-height: 18.76px\; background-color: rgb(255\, 255\, 255)\;" />\n<span style="color: rgb(75\, 79\, 86)\; font-family: helvetica\, arial\, sans-serif\; font-size: 14px\; line-height: 18.76px\; background-color: rgb(255\, 255\, 255)\;">RAFFLE</span><br style="color: rgb(75\, 79\, 86)\; font-family: helvetica\, arial\, sans-serif\; font-size: 14px\; line-height: 18.76px\; background-color: rgb(255\, 255\, 255)\;" />\n<span style="color: rgb(75\, 79\, 86)\; font-family: helvetica\, arial\, sans-serif\; font-size: 14px\; line-height: 18.76px\; background-color: rgb(255\, 255\, 255)\;">1st Prize</span><br style="color: rgb(75\, 79\, 86)\; font-family: helvetica\, arial\, sans-serif\; font-size: 14px\; line-height: 18.76px\; background-color: rgb(255\, 255\, 255)\;" />\n<span style="color: rgb(75\, 79\, 86)\; font-family: helvetica\, arial\, sans-serif\; font-size: 14px\; line-height: 18.76px\; background-color: rgb(255\, 255\, 255)\;">Howa Legacy 1500 6.5X55 Rifle</span><br style="color: rgb(75\, 79\, 86)\; font-family: helvetica\, arial\, sans-serif\; font-size: 14px\; line-height: 18.76px\; background-color: rgb(255\, 255\, 255)\;" />\n<br style="color: rgb(75\, 79\, 86)\; font-family: helvetica\, arial\, sans-serif\; font-size: 14px\; line-height: 18.76px\; background-color: rgb(255\, 255\, 255)\;" />\n<span style="color: rgb(75\, 79\, 86)\; font-family: helvetica\, arial\, sans-serif\; font-size: 14px\; line-height: 18.76px\; background-color: rgb(255\, 255\, 255)\;">2nd-5th Prizes</span><br style="color: rgb(75\, 79\, 86)\; font-family: helvetica\, arial\, sans-serif\; font-size: 14px\; line-height: 18.76px\; background-color: rgb(255\, 255\, 255)\;" />\n<span style="color: rgb(75\, 79\, 86)\; font-family: helvetica\, arial\, sans-serif\; font-size: 14px\; line-height: 18.76px\; background-color: rgb(255\, 255\, 255)\;">(4) - &frac12\; hogs donated by: Barry Septic Service</span><br />\n<span class="text_exposed_show" style="display: inline\; color: rgb(75\, 79\, 86)\; font-family: helvetica\, arial\, sans-serif\; font-size: 14px\; line-height: 18.76px\; background-color: rgb(255\, 255\, 255)\;">218-826-6474\; processing donated by: Fergus Locker 218-736-4285&nbsp\;<br />\n<br />\nRaffle tickets available at VFW Post 612\, Otter Tail County Veterans Service Office\, or via VFW members</span>
LOCATION:VFW Post 612 Fergus Falls 420 E Washington Ave\, Fergus Falls\, Minnesota 56537
UID:e.314.32684
SEQUENCE:3
DTSTAMP:20260425T150231Z
URL:https://business.fergusfalls.com/events/details/mike-karsnia-memorial-veterans-fundraiser-dance-05-20-2016-32684
END:VEVENT

END:VCALENDAR
