BEGIN:VCALENDAR
VERSION:2.0
PRODID:-//ChamberMaster//Event Calendar 2.0//EN
METHOD:PUBLISH
X-PUBLISHED-TTL:P3D
REFRESH-INTERVAL:P3D
CALSCALE:GREGORIAN
BEGIN:VEVENT
DTSTART:20191202T200000Z
DTEND:20191202T210000Z
X-MICROSOFT-CDO-ALLDAYEVENT:FALSE
SUMMARY:Military Roundtable
DESCRIPTION:Ryan Welle from the Minnesota Military Museum in Little Falls will give a program on the veterans oral history project he is managing.
X-ALT-DESC;FMTTYPE=text/html:Ryan Welle from the Minnesota Military Museum in Little Falls will give a program on the veterans oral history project he is managing.
LOCATION:MN Veterans Home
UID:e.314.54808
SEQUENCE:3
DTSTAMP:20260422T172033Z
URL:https://business.fergusfalls.com/events/details/military-roundtable-12-02-2019-54808
END:VEVENT

END:VCALENDAR
