BEGIN:VCALENDAR
VERSION:2.0
PRODID:-//ChamberMaster//Event Calendar 2.0//EN
METHOD:PUBLISH
X-PUBLISHED-TTL:P3D
REFRESH-INTERVAL:P3D
CALSCALE:GREGORIAN
BEGIN:VEVENT
DTSTART:20191104T200000Z
DTEND:20191104T210000Z
X-MICROSOFT-CDO-ALLDAYEVENT:FALSE
SUMMARY:Military Roundtable
DESCRIPTION:Discussion on the World War I monuments in Minnesota and Otter Tail County.
X-ALT-DESC;FMTTYPE=text/html:Discussion on the World War I monuments in Minnesota and Otter Tail County.
LOCATION:MN Veterans Home
UID:e.314.54807
SEQUENCE:3
DTSTAMP:20260422T185749Z
URL:https://business.fergusfalls.com/events/details/military-roundtable-54807
END:VEVENT

END:VCALENDAR
