BEGIN:VCALENDAR
VERSION:2.0
PRODID:-//ChamberMaster//Event Calendar 2.0//EN
METHOD:PUBLISH
X-PUBLISHED-TTL:P3D
REFRESH-INTERVAL:P3D
CALSCALE:GREGORIAN
BEGIN:VEVENT
DTSTART:20151005T190000Z
DTEND:20151005T200000Z
X-MICROSOFT-CDO-ALLDAYEVENT:FALSE
SUMMARY:Military Roundtable: War in the Pacific\, WWII
DESCRIPTION:Military Roundtable: War in the Pacific\, WWII\n\nMilitary Roundtable Meets October 5\n\n \n\nThe Military Roundtable sponsored by the Otter Tail County Historical Society will meet at the Minnesota Veterans Home in Fergus Falls on Monday\, October 5\, 2015 at 2pm.  The topic for the program will be "WW2 - the Pacific Theater." Local veterans have requested this topic. Participants will watch footage from the World War II\, shot by official US Navy photographers\, and discussion will follow. \n\n \n\nThis theater of the war touched Otter Tail County immediately. The VFW post in Perham is named for two men from Perham who died in the Japanese attacks in Hawaii on Dec. 7\, 1941. Hundreds of men and women from the county served in the Pacific.\n\n \n\nFor more information about the OTC-MP Military Roundtable\, please call the museum or email mhermes@otchs.org
X-ALT-DESC;FMTTYPE=text/html:<span class="title" style="color: rgb(41\, 82\, 163)\;">Military Roundtable: War in the Pacific\, WWII</span>\n\n<div><b><font size="2">Military Roundtable Meets October 5</font></b></div>\n\n<div>&nbsp\;</div>\n\n<div>The Military Roundtable sponsored by the Otter Tail County Historical Society will meet at the Minnesota Veterans Home in Fergus Falls on Monday\, October 5\, 2015 at 2pm. &nbsp\;The topic for the program will be &quot\;WW2 - the Pacific Theater.&rdquo\; Local veterans have requested this topic. Participants will watch footage from the World War II\, shot by official US Navy photographers\, and discussion will follow.&nbsp\;</div>\n\n<div>&nbsp\;</div>\n\n<div>This theater of the war touched Otter Tail County immediately. The VFW post in Perham is named for two men from Perham who died in the Japanese attacks in Hawaii on Dec. 7\, 1941. Hundreds of men and women from the county served in the Pacific.</div>\n\n<div>&nbsp\;</div>\n\n<div>For more information about the OTC-MP Military Roundtable\, please call the museum or email&nbsp\;<a href="mailto:mhermes@otchs.org" title="mailto:mhermes@otchs.org&#10\;Ctrl+Click or tap to follow the link"><font color="#0066cc">mhermes@otchs.org</font></a></div>\n\n<div>&nbsp\;</div>\n<br />\n&nbsp\;
LOCATION:Veterans Home\, North Park Street\, Fergus Falls\, MN
UID:e.314.24223
SEQUENCE:3
DTSTAMP:20260426T030309Z
URL:https://business.fergusfalls.com/events/details/military-roundtable-war-in-the-pacific-wwii-10-05-2015-24223
END:VEVENT

END:VCALENDAR
