BEGIN:VCALENDAR
VERSION:2.0
PRODID:-//ChamberMaster//Event Calendar 2.0//EN
METHOD:PUBLISH
X-PUBLISHED-TTL:P3D
REFRESH-INTERVAL:P3D
CALSCALE:GREGORIAN
BEGIN:VEVENT
DTSTART:20171008T183000Z
DTEND:20171008T203000Z
X-MICROSOFT-CDO-ALLDAYEVENT:FALSE
SUMMARY:"MinneSHOWta" Live TV Show Taping
DESCRIPTION:Come to a FREE LIVE TAPING of the hit new variety program on Prairie Public Television "MINNE-SHOW-TA"\n\nHost comic ventriloquist: James Wedgewood\n\nComedienne: Mary Rowles\n\nA Capella Group: Sound Exchange\n\nRefreshments and door prizes for first 75 attendees\n\nDoors open at 1:30pm
X-ALT-DESC;FMTTYPE=text/html:Come to a FREE LIVE TAPING of the hit new variety program on Prairie Public Television &quot\;MINNE-SHOW-TA&quot\;<br />\nHost comic ventriloquist: James Wedgewood<br />\nComedienne: Mary Rowles<br />\nA Capella Group: Sound Exchange<br />\nRefreshments and door prizes for first 75 attendees<br />\nDoors open at 1:30pm
LOCATION:Edson Hall University of Minnesota - Morris
UID:e.314.42729
SEQUENCE:3
DTSTAMP:20260424T092700Z
URL:https://business.fergusfalls.com/events/details/minneshowta-live-tv-show-taping-42729
END:VEVENT

END:VCALENDAR
