BEGIN:VCALENDAR
VERSION:2.0
PRODID:-//ChamberMaster//Event Calendar 2.0//EN
METHOD:PUBLISH
X-PUBLISHED-TTL:P3D
REFRESH-INTERVAL:P3D
CALSCALE:GREGORIAN
BEGIN:VEVENT
DTSTART:20170819T140000Z
DTEND:20170819T220000Z
X-MICROSOFT-CDO-ALLDAYEVENT:FALSE
SUMMARY:Minnesota Bat Festival - Bloomington\, MN
DESCRIPTION:FREE EVENT! Our first bat festival ever in Minnesota! Celebrate the unique role of bats in ecosystems as insect eaters\, while dispelling myths and misinformation that generate needless fears and threaten bats and their habitats around the world. The festival features activities for children\, families\, educators and conservation professionals. Presentations\, speakers\, live animals\, hands-on activities\, games for kids\, and interactive exhibits provide a full day of fun and environmental education. Additionally\, please join us later that night\, from 8 PM to 10 PM for Science Night at the Lincoln Memorial Garden to watch bats emerge at sunset!
X-ALT-DESC;FMTTYPE=text/html:FREE EVENT! Our first bat festival ever in Minnesota! Celebrate the unique role of bats in ecosystems as insect eaters\, while dispelling myths and misinformation that generate needless fears and threaten bats and their habitats around the world. The festival features activities for children\, families\, educators and conservation professionals. Presentations\, speakers\, live animals\, hands-on activities\, games for kids\, and interactive exhibits provide a full day of fun and environmental education. Additionally\, please join us later that night\, from 8 PM to 10 PM for Science Night at the Lincoln Memorial Garden to watch bats emerge at sunset!
LOCATION:Minnesota Valley Wildlife Refuge 3815 American Blvd. E. Bloomington\, MN 55425
UID:e.314.40138
SEQUENCE:3
DTSTAMP:20260424T134538Z
URL:https://business.fergusfalls.com/events/details/minnesota-bat-festival-bloomington-mn-40138
END:VEVENT

END:VCALENDAR
