BEGIN:VCALENDAR
VERSION:2.0
PRODID:-//ChamberMaster//Event Calendar 2.0//EN
METHOD:PUBLISH
X-PUBLISHED-TTL:P3D
REFRESH-INTERVAL:P3D
CALSCALE:GREGORIAN
BEGIN:VEVENT
DTSTART:20190529T150000Z
DTEND:20190529T170000Z
X-MICROSOFT-CDO-ALLDAYEVENT:FALSE
SUMMARY:Minnesota Compass West Central Region Data Workshop
DESCRIPTION:BUILD YOUR OWN Demographic+Geographic+Primary Sources\n\n\n\nWest Central Initiative and Minnesota Compass invite you to learn about the MN Compass Build Your Own Statewide data tool. Space is limited. Lunch will be provided. We encourage you to bring your laptop or tablet for this workshop.
X-ALT-DESC;FMTTYPE=text/html:<div class="_63ew" data-testid="event-permalink-details"><span><strong>BUILD YOUR OWN Demographic+Geographic+Primary Sources</strong><br />\n<br />\nWest Central Initiative and Minnesota Compass invite you to learn about the MN Compass Build Your Own Statewide data tool. Space is limited. Lunch will be provided. We encourage you to bring your laptop or tablet for this workshop.</span></div>\n
LOCATION:West Central Initiative 1000 Western Ave | PO Box 318\, Fergus Falls\, Minnesota 56538
UID:e.314.53982
SEQUENCE:3
DTSTAMP:20260423T050225Z
URL:https://business.fergusfalls.com/events/details/minnesota-compass-west-central-region-data-workshop-53982
END:VEVENT

END:VCALENDAR
