BEGIN:VCALENDAR
VERSION:2.0
PRODID:-//ChamberMaster//Event Calendar 2.0//EN
METHOD:PUBLISH
X-PUBLISHED-TTL:P3D
REFRESH-INTERVAL:P3D
CALSCALE:GREGORIAN
BEGIN:VEVENT
DTSTART:20170224T000000Z
DTEND:20170224T013000Z
X-MICROSOFT-CDO-ALLDAYEVENT:FALSE
SUMMARY:Minnesota in the Civil War
DESCRIPTION:Historian Arn Kind uses artifacts\, uniforms and equipment to give audiences a greater understanding of the daily life of a Civil War soldier and the causes\, important events and tragic consequences of the war. Don't miss this engaging speaker! This program is designed for adults and teens\, but is appropriate for all ages. This project was funded in part or in whole with money from Minnesota's Arts and Cultural Heritage fund. It is sponsored by FFPL and Viking Library System.
X-ALT-DESC;FMTTYPE=text/html:Historian Arn Kind uses artifacts\, uniforms and equipment to give audiences a greater understanding of the daily life of a Civil War soldier and the causes\, important events and tragic consequences of the war. Don&#39\;t miss this engaging speaker! This program is designed for adults and teens\, but is appropriate for all ages. This project was funded in part or in whole with money from Minnesota&#39\;s Arts and Cultural Heritage fund. It is sponsored by FFPL and Viking Library System.
LOCATION:Fergus Falls Public Library\, 205 E Hampden Ave\, Fergus Falls\, MN 56537
UID:e.314.38482
SEQUENCE:3
DTSTAMP:20260424T225139Z
URL:https://business.fergusfalls.com/events/details/minnesota-in-the-civil-war-38482
END:VEVENT

END:VCALENDAR
