BEGIN:VCALENDAR
VERSION:2.0
PRODID:-//ChamberMaster//Event Calendar 2.0//EN
METHOD:PUBLISH
X-PUBLISHED-TTL:P3D
REFRESH-INTERVAL:P3D
CALSCALE:GREGORIAN
BEGIN:VEVENT
DTSTART;VALUE=DATE:20160711
DTEND;VALUE=DATE:20160712
TRANSP:TRANSPARENT
X-MICROSOFT-CDO-ALLDAYEVENT:TRUE
SUMMARY:Minnesota Motor Co PRO AM at PLGC
DESCRIPTION:Minnesota Motor Co PRO AM @ Pebble Lake Golf Course
X-ALT-DESC;FMTTYPE=text/html:Minnesota Motor Co PRO AM @ Pebble Lake Golf Course&nbsp\;
LOCATION:PLGC 1918 Pebble Lake Golf Dr 218-736-7404
UID:e.314.32926
SEQUENCE:3
DTSTAMP:20260425T111620Z
URL:https://business.fergusfalls.com/events/details/minnesota-motor-co-pro-am-at-plgc-07-11-2016-32926
END:VEVENT

END:VCALENDAR
