BEGIN:VCALENDAR
VERSION:2.0
PRODID:-//ChamberMaster//Event Calendar 2.0//EN
METHOD:PUBLISH
X-PUBLISHED-TTL:P3D
REFRESH-INTERVAL:P3D
CALSCALE:GREGORIAN
BEGIN:VEVENT
DTSTART:20170325T150000Z
DTEND:20170325T160000Z
X-MICROSOFT-CDO-ALLDAYEVENT:FALSE
SUMMARY:Minnesota's Non-game Wildlife
DESCRIPTION:FREE EVENT - "Naturally Speaking" Friends of the Prairie Wetlands Learning Center are excited to invite you to learn about loon surveys\, eagle cam\, skinks\, and other wildlife news from the Regional Non-game Wildlife Specialist Christine Herwig. Her program will last about 40 minutes\, then she will answer your questions about non-game wildlife.
X-ALT-DESC;FMTTYPE=text/html:FREE EVENT - &quot\;Naturally Speaking&quot\; Friends of the Prairie Wetlands Learning Center are excited to invite you to learn about loon surveys\, eagle cam\, skinks\, and other wildlife news from the Regional Non-game Wildlife Specialist Christine Herwig. Her program will last about 40 minutes\, then she will answer your questions about non-game wildlife.
LOCATION:Prairie Wetlands Learning Center downstairs classroom (elevator available)\, 602 State Highway 210 East\, Fergus Falls
UID:e.314.38919
SEQUENCE:3
DTSTAMP:20260424T225134Z
URL:https://business.fergusfalls.com/events/details/minnesota-s-non-game-wildlife-38919
END:VEVENT

END:VCALENDAR
