BEGIN:VCALENDAR
VERSION:2.0
PRODID:-//ChamberMaster//Event Calendar 2.0//EN
METHOD:PUBLISH
X-PUBLISHED-TTL:P3D
REFRESH-INTERVAL:P3D
CALSCALE:GREGORIAN
BEGIN:VEVENT
DTSTART;VALUE=DATE:20160811
DTEND;VALUE=DATE:20160814
TRANSP:TRANSPARENT
X-MICROSOFT-CDO-ALLDAYEVENT:TRUE
SUMMARY:Minnesota Trappers Association 2016 Summer Rendezvous and Convention
DESCRIPTION:2016 Minnesota Trappers Association\n\nSummer Rendezvous and Convention\n\nOtter Tail County Fairgrounds\n\nFergus Falls\, Minnesota\n\nAugust 11 - 13\, 2016\n\n\n	Sadie Hawkins Trappers Race\n	Trap Setting Contest\n	Kids Games\n	On-Site Camping\n\nMany dealers offering a large selection of ordinary and unique outdoor supplies and equipment.  Plenty of Education Classes scheduled every day\, including land and water demonstrations\, along with fur handling demonstrations.\n\nQuestions? Contact Dewey Schmitz or Larry Anderson
X-ALT-DESC;FMTTYPE=text/html:<span style="font-size: 18px\;"><strong><span style="font-size: 20px\;">2016 Minnesota Trappers Association</span><br />\nSummer Rendezvous and Convention<br />\n<span style="font-size: 16px\;">Otter Tail County Fairgrounds<br />\nFergus Falls\, </span></strong></span><span style="font-size: 16px\;"><strong>Minnesota</strong></span><br />\n<strong><span style="font-size: 18px\;">August 11 - 13\, 2016</span></strong>\n\n<ul>\n	<li><span style="font-size: 14px\;">Sadie Hawkins Trappers Race</span></li>\n	<li><span style="font-size: 14px\;">Trap Setting Contest</span></li>\n	<li><span style="font-size: 14px\;">Kids Games</span></li>\n	<li><span style="font-size: 14px\;">On-Site Camping</span></li>\n</ul>\n<span style="font-size: 14px\;">Many dealers offering a large selection of ordinary and unique outdoor supplies and equipment.&nbsp\; Plenty of Education Classes scheduled every day\, including land and water demonstrations\, along with fur handling demonstrations.<br />\nQuestions? Contact Dewey Schmitz or Larry Anderson</span><br />\n&nbsp\;
LOCATION:Otter Tail County Fairgrounds Fergus Falls Minnesota
UID:e.314.32667
SEQUENCE:3
DTSTAMP:20260425T111019Z
URL:https://business.fergusfalls.com/events/details/minnesota-trappers-association-2016-summer-rendezvous-and-convention-08-11-2016-32667
END:VEVENT

END:VCALENDAR
