BEGIN:VCALENDAR
VERSION:2.0
PRODID:-//ChamberMaster//Event Calendar 2.0//EN
METHOD:PUBLISH
X-PUBLISHED-TTL:P3D
REFRESH-INTERVAL:P3D
CALSCALE:GREGORIAN
BEGIN:VEVENT
DTSTART:20160120T023000Z
DTEND:20160120T040000Z
X-MICROSOFT-CDO-ALLDAYEVENT:FALSE
SUMMARY:Minnesota Twins Caravan
DESCRIPTION:Minnesota Twins Caravan  \n\n\n\nTuesday\, January 19th \n\n\n\nPioneerCare\n\n1131 Mabelle Ave \n\n\n\nServing Breakfast 8:30AM * 9AM \n\n\n\n*Featuring*\n\nPaul Molitor\n\nByron Buxton\n\nCasey Fien\n\nDick Bremer \n\nSorry- No Autographs\n\n\n\nServing Perkins Pancakes and Premier Meat Sausages\, Orange Juice\, Coffee and Water.\n\n\n\n$ 6 In Advance Available at Leighton Broadcasting\n\n728 Western Ave\n\n$8 At The Door\n\n* Proceeds benefit Fergus Falls Area Youth Baseball\n\n\n\nHosted By: PioneerCare  Presented By:  Pemberton Legal Leadership\n\nSponsors: Perkins\, Premier Meats & Seafood\, Coca-Cola
X-ALT-DESC;FMTTYPE=text/html:<strong><span style="font-size: 16px\;"><span style="color: rgb(0\, 0\, 255)\;">Minnesota Twins Caravan&nbsp\; </span><br />\n<br />\n<em>Tuesday\, January 19th </em><br />\n<br />\nPioneerCare<br />\n1131 Mabelle Ave </span><br />\n<br />\n<span style="color: rgb(0\, 0\, 255)\;"><em><span style="font-size: 14px\;">Serving Breakfast 8:30AM * 9AM </span></em></span><br />\n<br />\n<span style="font-size: 14px\;"><span style="color: rgb(255\, 0\, 0)\;">*Featuring*</span></span><br />\nPaul Molitor<br />\nByron Buxton<br />\nCasey Fien<br />\nDick Bremer </strong><br />\n<span style="color: rgb(255\, 0\, 0)\;"><strong>Sorry- No Autographs</strong></span><br />\n<br />\n<strong>Serving Perkins Pancakes and Premier Meat Sausages\, Orange Juice\, Coffee and Water.<br />\n<br />\n$ 6 In Advance Available at Leighton Broadcasting<br />\n728 Western Ave<br />\n$8 At The Door<br />\n<em><span style="color: rgb(255\, 140\, 0)\;">* Proceeds benefit Fergus Falls Area Youth Baseball</span></em><br />\n<br />\n<span style="color: rgb(0\, 0\, 255)\;">Hosted By</span>: PioneerCare&nbsp\; <span style="color: rgb(0\, 0\, 255)\;">Presented By:</span>&nbsp\; Pemberton Legal Leadership<br />\n<span style="color: rgb(0\, 0\, 255)\;">Sponsors:</span> Perkins\, Premier Meats &amp\; Seafood\, Coca-Cola </strong>
LOCATION:PioneerCare 1131 Mabelle Ave Fergus Falls Mn
UID:e.314.28159
SEQUENCE:3
DTSTAMP:20260425T214757Z
URL:https://business.fergusfalls.com/events/details/minnesota-twins-caravan-01-19-2016-28159
END:VEVENT

END:VCALENDAR
