BEGIN:VCALENDAR
VERSION:2.0
PRODID:-//ChamberMaster//Event Calendar 2.0//EN
METHOD:PUBLISH
X-PUBLISHED-TTL:P3D
REFRESH-INTERVAL:P3D
CALSCALE:GREGORIAN
BEGIN:VEVENT
DTSTART:20170126T143000Z
DTEND:20170126T170000Z
X-MICROSOFT-CDO-ALLDAYEVENT:FALSE
SUMMARY:Minnesota Twins Caravan -
DESCRIPTION:Minnesota Twins Caravan - Proceeds Benefit Youth Baseball\n\nPioneer Care 1131 Mabelle Ave Fergus Falls\n\n\n\nThursday Jan 26\, 2017\n\nServing Breakfast 8:30am \n\nProgram 9:00am\n\nFeaturing: Jose Berrios\, John Ryan Murphy\, Dan Gladden\, Bert Blyeven\n\n\n\nServing Perkins Panackes\, Premier Meat Sausages\, Orange Juice\, Coffee\, Milk\, and Water.\n\n\n\nTickets $5 in Advance available at Leighton Broadcasting (725 Western Ave)\n\nTickets $9 At the Door\n\n\n\nHosted by: PioneerCare\n\nPresented By: Pemberton Law
X-ALT-DESC;FMTTYPE=text/html:<span style="color: rgb(0\, 0\, 255)\;"><strong>Minnesota Twins Caravan -</strong></span> Proceeds Benefit Youth Baseball<br />\n<strong><span style="color: rgb(255\, 0\, 0)\;">Pioneer Care</span> </strong>1131 Mabelle Ave Fergus Falls<br />\n<br />\n<span style="color: rgb(0\, 0\, 255)\;">Thursday Jan 26\, 2017</span><br />\nServing Breakfast 8:30am&nbsp\;<br />\nProgram 9:00am<br />\nFeaturing: Jose Berrios\, John Ryan Murphy\, Dan Gladden\, Bert Blyeven<br />\n<br />\nServing Perkins Panackes\, Premier Meat Sausages\, Orange Juice\, Coffee\, Milk\, and Water.<br />\n<br />\nTickets $5 in Advance available at<u> Leighton Broadcasting (725 Western Ave)</u><br />\nTickets $9 At the Door<br />\n<br />\n<strong><span style="color: rgb(0\, 0\, 255)\;">Hosted by:</span> </strong><span style="color: rgb(255\, 0\, 0)\;">PioneerCare</span><br />\n<span style="color: rgb(0\, 0\, 255)\;">P<strong>resented By:</strong></span> <span style="color: rgb(255\, 0\, 0)\;">Pemberton Law </span>
LOCATION:Pioneer Care 1131 Mabelle Ave Fergus Falls MN
UID:e.314.37401
SEQUENCE:3
DTSTAMP:20260425T002726Z
URL:https://business.fergusfalls.com/events/details/minnesota-twins-caravan-37401
END:VEVENT

END:VCALENDAR
