BEGIN:VCALENDAR
VERSION:2.0
PRODID:-//ChamberMaster//Event Calendar 2.0//EN
METHOD:PUBLISH
X-PUBLISHED-TTL:P3D
REFRESH-INTERVAL:P3D
CALSCALE:GREGORIAN
BEGIN:VEVENT
DTSTART:20190123T000000Z
DTEND:20190123T020000Z
X-MICROSOFT-CDO-ALLDAYEVENT:FALSE
SUMMARY:Minnesota Twins Caravan @ Bigwood Event Center
DESCRIPTION:Minnesota Twins Caravan Date Set\n\n(Fergus Falls\, MN)   Pemberton Law Firm announces the 2019 Minnesota Twins Caravan will be held on Tuesday\, January 22nd\, 2019\, at the Bigwood Event Center\, 925 Western Avenue\, Fergus Falls.\n\nThe Twins Caravan is hosted by KBRF 1250 AM\, your home for Minnesota Twins baseball.\n\n\n\nFeaturing: Miguel Sano\, Mitch Garver\, Bert Blyleven\, Dan Gladden\n\n\n\nServing: Premier Meats Pulled Pork\, Perkins Baked Beans\, Buns & Cookies\, Cass Clay Milk\, Coca Cola beverages and coffee.\n\nThere will be a meal served\, and a public autograph session will be after the Caravan. All proceeds will go to the Fergus Falls Youth Baseball Program.
X-ALT-DESC;FMTTYPE=text/html:<p><strong data-redactor-tag="strong">Minnesota Twins Caravan Date Set</strong></p>\n\n<p>(Fergus Falls\, MN) &ndash\; Pemberton Law Firm announces the 2019 Minnesota Twins Caravan will be held on Tuesday\, January 22nd\, 2019\, at the Bigwood Event Center\, 925 Western Avenue\, Fergus Falls.</p>\n\n<p>The Twins Caravan is hosted by KBRF 1250 AM\, your home for Minnesota Twins baseball.<br />\n<br />\nFeaturing: Miguel Sano\, Mitch Garver\, Bert Blyleven\, Dan Gladden<br />\n<br />\nServing: Premier Meats Pulled Pork\, Perkins Baked Beans\, Buns &amp\; Cookies\, Cass Clay Milk\, Coca Cola beverages and coffee.</p>\n\n<p>There will be a meal served\, and a public autograph session will be after the Caravan. All proceeds will go to the Fergus Falls Youth Baseball Program.</p>\n
LOCATION:Bigwood Event Center 925 Western Ave. Fergus Falls\, MN
UID:e.314.52192
SEQUENCE:3
DTSTAMP:20260423T105924Z
URL:https://business.fergusfalls.com/events/details/minnesota-twins-caravan-bigwood-event-center-52192
END:VEVENT

END:VCALENDAR
