BEGIN:VCALENDAR
VERSION:2.0
PRODID:-//ChamberMaster//Event Calendar 2.0//EN
METHOD:PUBLISH
X-PUBLISHED-TTL:P3D
REFRESH-INTERVAL:P3D
CALSCALE:GREGORIAN
BEGIN:VEVENT
DTSTART:20191111T200000Z
DTEND:20191111T220000Z
X-MICROSOFT-CDO-ALLDAYEVENT:FALSE
SUMMARY:Minnesota Veterans Home - Fergus Falls Veterans Day Program: Honoring All Who Served
DESCRIPTION:Please join the Minnesota Veterans Home - Fergus Falls for our Veterans Day Program honoring all who served.  We welcome our Minnesota Department of Veterans Affairs Commissioner\, Larry Herke and guest speaker\, Jean Walker\, 2018-2019 American Legion Department President\, along with many others in tribute to Veterans everywhere.
X-ALT-DESC;FMTTYPE=text/html:Please join the Minnesota Veterans Home - Fergus Falls for our Veterans Day Program honoring all who served.&nbsp\; We welcome our Minnesota Department of Veterans Affairs Commissioner\, Larry Herke and guest speaker\, Jean Walker\, 2018-2019 American Legion Department President\, along with many others in tribute to Veterans everywhere.
LOCATION:Minnesota Veterans Home - Fergus Falls 1821 North Park Street Fergus Falls\, MN 56537
UID:e.314.55797
SEQUENCE:3
DTSTAMP:20260422T190354Z
URL:https://business.fergusfalls.com/events/details/minnesota-veterans-home-fergus-falls-veterans-day-program-honoring-all-who-served-55797
END:VEVENT

END:VCALENDAR
