BEGIN:VCALENDAR
VERSION:2.0
PRODID:-//ChamberMaster//Event Calendar 2.0//EN
METHOD:PUBLISH
X-PUBLISHED-TTL:P3D
REFRESH-INTERVAL:P3D
CALSCALE:GREGORIAN
BEGIN:VEVENT
DTSTART;VALUE=DATE:20191003
DTEND;VALUE=DATE:20191004
TRANSP:TRANSPARENT
X-MICROSOFT-CDO-ALLDAYEVENT:TRUE
SUMMARY:MN Manufacturing Week Tours
DESCRIPTION:To celebrate our MN Manufacturing Week\, GFF is coordinating community and student-based tours. This is a great opportunity for job seekers to tour facilities and have on-the-spot interviews. Student tours will educate and engage interest in manufacturing as a career! \n\n\n\nVector Windows from 11 AM-1 PM and 3 PM-5 PM\n\nShoreMaster from 12:30 PM - 3 PM\n\nStonel Corporation from 1:00 PM - 3:00 PM\n\n\n\n*Student tours are coordinated through Kennedy Secondary School. \n\n\nCommunity tours are open to the public at the times listed above.
X-ALT-DESC;FMTTYPE=text/html:<span style="color: rgb(29\, 33\, 41)\; font-family: helvetica\,arial\,sans-serif\; font-size: 14px\; background-color: rgb(255\, 255\, 255)\;">To celebrate our MN Manufacturing Week\, GFF is coordinating community and student-based tours. This is a great opportunity for job seekers to tour facilities and have on-the-spot interviews. Student tours will educate and engage interest in manufacturing as a career! </span><br />\n<br />\n<a href="https://www.facebook.com/VectorWindows/" style="color: rgb(56\, 88\, 152)\; font-family: Helvetica\, Arial\, sans-serif\; font-size: 14px\; white-space: pre-wrap\; cursor: pointer\; background-color: rgb(255\, 255\, 255)\; text-decoration-line: none\;" target="_blank">Vector Windows</a><span style="color: rgb(29\, 33\, 41)\; font-family: helvetica\,arial\,sans-serif\; font-size: 14px\; background-color: rgb(255\, 255\, 255)\;"> from 11 AM-1 PM and 3 PM-5 PM</span><br />\n<a href="https://www.facebook.com/ShoreMaster/" style="color: rgb(56\, 88\, 152)\; font-family: Helvetica\, Arial\, sans-serif\; font-size: 14px\; white-space: pre-wrap\; cursor: pointer\; background-color: rgb(255\, 255\, 255)\; text-decoration-line: none\;" target="_blank">ShoreMaster</a><span style="color: rgb(29\, 33\, 41)\; font-family: helvetica\,arial\,sans-serif\; font-size: 14px\; background-color: rgb(255\, 255\, 255)\;"> from 12:30 PM - 3 PM</span><br />\n<a href="https://www.facebook.com/pages/Stonel-Corporation/115925358468147" style="color: rgb(56\, 88\, 152)\; font-family: Helvetica\, Arial\, sans-serif\; font-size: 14px\; white-space: pre-wrap\; cursor: pointer\; background-color: rgb(255\, 255\, 255)\; text-decoration-line: none\;" target="_blank">Stonel Corporation</a><span style="color: rgb(29\, 33\, 41)\; font-family: helvetica\,arial\,sans-serif\; font-size: 14px\; background-color: rgb(255\, 255\, 255)\;"> from 1:00 PM - 3:00 PM</span><br />\n<br />\n<span style="color: rgb(29\, 33\, 41)\; font-family: helvetica\,arial\,sans-serif\; font-size: 14px\; background-color: rgb(255\, 255\, 255)\;">*Student tours are coordinated through Kennedy Secondary School. </span>\n<div><br />\n<span style="color: rgb(29\, 33\, 41)\; font-family: helvetica\,arial\,sans-serif\; font-size: 14px\; background-color: rgb(255\, 255\, 255)\;">Community tours are open to the public at the times listed above. </span></div>\n
LOCATION:Vector Windows from 11 AM-1 PM and 3 PM-5 PM ShoreMaster from 12:30 PM - 3 PM Stonel Corporation from 1:00 PM - 3:00 PM
UID:e.314.54649
SEQUENCE:3
DTSTAMP:20260422T203756Z
URL:https://business.fergusfalls.com/events/details/mn-manufacturing-week-tours-54649
END:VEVENT

END:VCALENDAR
