BEGIN:VCALENDAR
VERSION:2.0
PRODID:-//ChamberMaster//Event Calendar 2.0//EN
METHOD:PUBLISH
X-PUBLISHED-TTL:P3D
REFRESH-INTERVAL:P3D
CALSCALE:GREGORIAN
BEGIN:VEVENT
DTSTART:20181012T223000Z
DTEND:20181013T023000Z
X-MICROSOFT-CDO-ALLDAYEVENT:FALSE
SUMMARY:MN Motor Night
DESCRIPTION:MN Motor Night\n\n\n\n Hosted by Minnesota Motor Company\n\n\n\n\n \n\n\n\nIt's Minnesota Motor Company Night at Otter Stadium! That means that everyone gets into the football game for FREE. MN Motor Company has already paid for your ticket\, so come out and cheer on the mighty Otters as they take on Park Rapids!\n\n\n\nPrior to the game\, stop by our tailgate area for free hot dogs\, games and more! \n\n\n\n5:30 - 7:00: MN Motor Tailgate\n\n7:00: The Otters will take on Park Rapids\n\n\n\nThe game sponsorship and tailgate is paid for by Minnesota Motor Company and the Heartland Chevy Dealer Group.
X-ALT-DESC;FMTTYPE=text/html:<h1 class="_5gmx" data-testid="event-permalink-event-name" id="seo_h1_tag" style="color: rgb(29\, 33\, 41)\; font-size: 20px\; font-weight: normal\; margin: 0px 12px 0px 0px\; padding: 0px\; line-height: 28px\; font-family: Helvetica\, Arial\, sans-serif\; background-color: rgb(255\, 255\, 255)\;">MN Motor Night</h1>\n\n<div class="_5gnb" style="color: rgb(144\, 148\, 156)\; font-size: 14px\; line-height: 18px\; margin: 2px 12px 0px 0px\; font-family: Helvetica\, Arial\, sans-serif\; background-color: rgb(255\, 255\, 255)\;">\n<div class="_b9-" style="display: inline\; font-family: inherit\;">\n<div content="Minnesota Motor Company" data-testid="event_permalink_feature_line" style="font-family: inherit\; display: inline\;">&nbsp\;Hosted by&nbsp\;<a data-hovercard="/ajax/hovercard/page.php?id=135341676661767&amp\;extragetparams=%7B%22eid%22%3A%22ARDKdxpp0prkBwqdVTmTXzJmsLJhcCGtr91JsCrRseH08jhx1FgqOJx5GbKc-FO7NWnqrwcybDrkEhIJ%22%7D" data-hovercard-position="below" href="https://www.facebook.com/MinnesotaMotorCompany/?eid=ARDKdxpp0prkBwqdVTmTXzJmsLJhcCGtr91JsCrRseH08jhx1FgqOJx5GbKc-FO7NWnqrwcybDrkEhIJ" style="color: rgb(54\, 88\, 153)\; cursor: pointer\; text-decoration-line: none\; font-family: inherit\;">Minnesota Motor Company</a></div>\n</div>\n</div>\n\n<div class="_5gnb" style="color: rgb(144\, 148\, 156)\; font-size: 14px\; line-height: 18px\; margin: 2px 12px 0px 0px\; font-family: Helvetica\, Arial\, sans-serif\; background-color: rgb(255\, 255\, 255)\;">\n<div class="_b9-" style="display: inline\; font-family: inherit\;">&nbsp\;</div>\n</div>\n\n<div class="_5gnb" style="color: rgb(144\, 148\, 156)\; font-size: 14px\; line-height: 18px\; margin: 2px 12px 0px 0px\; font-family: Helvetica\, Arial\, sans-serif\; background-color: rgb(255\, 255\, 255)\;">\n<div class="_b9-" style="display: inline\; font-family: inherit\;"><span style="color: rgb(29\, 33\, 41)\;">It&rsquo\;s Minnesota Motor Company Night at Otter Stadium! That means that everyone gets into the football game for FREE. MN Motor Company has already paid for your ticket\, so come out and cheer on the mighty Otters as they take on Park Rapids!</span><br style="color: rgb(29\, 33\, 41)\;" />\n<br style="color: rgb(29\, 33\, 41)\;" />\n<span style="color: rgb(29\, 33\, 41)\;">Prior to the game\, stop by our tailgate area for free hot dogs\, games and more!&nbsp\;</span><br style="color: rgb(29\, 33\, 41)\;" />\n<br style="color: rgb(29\, 33\, 41)\;" />\n<span style="color: rgb(29\, 33\, 41)\;">5:30 - 7:00: MN Motor Tailgate</span><br style="color: rgb(29\, 33\, 41)\;" />\n<span style="color: rgb(29\, 33\, 41)\;">7:00: The Otters will take on Park Rapids</span><br style="color: rgb(29\, 33\, 41)\;" />\n<br style="color: rgb(29\, 33\, 41)\;" />\n<span style="color: rgb(29\, 33\, 41)\;">The game sponsorship and tailgate is paid for by Minnesota Motor Company and the Heartland Chevy Dealer Group.</span></div>\n</div>\n
LOCATION:Fergus Falls Public Schools 601 Randolph Ave Fergus Falls MN
UID:e.314.50467
SEQUENCE:3
DTSTAMP:20260423T150605Z
URL:https://business.fergusfalls.com/events/details/mn-motor-night-50467
END:VEVENT

END:VCALENDAR
