BEGIN:VCALENDAR
VERSION:2.0
PRODID:-//ChamberMaster//Event Calendar 2.0//EN
METHOD:PUBLISH
X-PUBLISHED-TTL:P3D
REFRESH-INTERVAL:P3D
CALSCALE:GREGORIAN
BEGIN:VEVENT
DTSTART:20190920T222500Z
DTEND:20190921T000000Z
X-MICROSOFT-CDO-ALLDAYEVENT:FALSE
SUMMARY:MN Motor Night
DESCRIPTION:It is Minnesota Motor Company Night at Otter Stadium on Friday\, September 20\, so everyone gets into the game for FREE!\n\n\n\nJoin us before the game for FREE food and tailgating fun from 5:30 pm until kickoff. See you at the game!\n\n\n\nMinnesota Motor Company and the Heartland Chevy Dealers have already paid for your ticket\, so come out and cheer on the Otters as they take on Perham!
X-ALT-DESC;FMTTYPE=text/html:<div class="_63ew" data-testid="event-permalink-details"><span>It is Minnesota Motor Company Night at Otter Stadium on Friday\, September 20\, so everyone gets into the game for FREE!<br />\n<br />\nJoin us before the game for FREE food and tailgating fun from 5:30 pm until kickoff. See you at the game!<br />\n<br />\nMinnesota Motor Company and the Heartland Chevy Dealers have already paid for your ticket\, so come out and cheer on the Otters as they take on Perham! </span></div>\n
LOCATION:Kennedy Secondary School - Fergus Falls 601 Randolph Ave\, Fergus Falls\, Minnesota 56537
UID:e.314.54656
SEQUENCE:3
DTSTAMP:20260422T222333Z
URL:https://business.fergusfalls.com/events/details/mn-motor-night-54656
END:VEVENT

END:VCALENDAR
