BEGIN:VCALENDAR
VERSION:2.0
PRODID:-//ChamberMaster//Event Calendar 2.0//EN
METHOD:PUBLISH
X-PUBLISHED-TTL:P3D
REFRESH-INTERVAL:P3D
CALSCALE:GREGORIAN
BEGIN:VEVENT
DTSTART:20181205T000000Z
DTEND:20181205T020000Z
X-MICROSOFT-CDO-ALLDAYEVENT:FALSE
SUMMARY:MN Motor Pack the House Night
DESCRIPTION:Let's have a fun Community night to support our Otters! Minnesota Motor Company and the Heartland Chevy Dealers have paid for your ticket to the Girls Hockey Game\, Girls Basketball Game and Gymnastics Meet on Tuesday\, December 4. FREE admission to the games for everyone!\n\n\n\nGymnastics at Roosevelt at 6:00 pm\n\nOtters vs Morris Area\n\n\n\nGirls Hockey at the Hockey Arena: JV at 5:45 and Varsity at 7:15 pm\n\nOtters vs Alexandria\n\n\n\nGirls Basketball at KSS: C/JV at 5:45 and Varsity at 7:15 pm\n\nOtters vs Detroit Lakes
X-ALT-DESC;FMTTYPE=text/html:<span>Let&#39\;s have a fun Community night to support our Otters! Minnesota Motor Company and the Heartland Chevy Dealers have paid for your ticket to the Girls Hockey Game\, Girls Basketball Game and Gymnastics Meet on Tuesday\, December 4. FREE admission to the games for everyone!<br />\n<br />\nGymnastics at Roosevelt at 6:00 pm<br />\nOtters vs Morris Area<br />\n<br />\nGirls Hockey at the Hockey Arena: JV at 5:45 and Varsity at 7:15 pm<br />\nOtters vs Alexandria<br />\n<br />\nGirls Basketball at KSS: C/JV at 5:45 and Varsity at 7:15 pm<br />\nOtters vs Detroit Lakes</span>
LOCATION:Fergus Falls Public Schools 601 Randoplh Ave
UID:e.314.52017
SEQUENCE:3
DTSTAMP:20260423T133437Z
URL:https://business.fergusfalls.com/events/details/mn-motor-pack-the-house-night-52017
END:VEVENT

END:VCALENDAR
