BEGIN:VCALENDAR
VERSION:2.0
PRODID:-//ChamberMaster//Event Calendar 2.0//EN
METHOD:PUBLISH
X-PUBLISHED-TTL:P3D
REFRESH-INTERVAL:P3D
CALSCALE:GREGORIAN
BEGIN:VEVENT
DTSTART:20200815T160000Z
DTEND:20200816T010000Z
X-MICROSOFT-CDO-ALLDAYEVENT:FALSE
SUMMARY:MN Senior Men's Baseball State Tournament
DESCRIPTION:Fergus Falls\n\nSouthwest vs. Clarissa 11am\n\nSaint Peter vs. Fergus Falls (Defending Class "C" Champs) 1:30pm\n\nBurnsville vs. Searles 4pm\n\nBecker vs. Rosemount 6:30pm\n\nGames in Other Locations --\n\nAlexandria:\n\nAlexandria vs. Apple Valley 11am\n\nJordan Alers vs. Mankato 1:30pm\n\nMenagha vs. Prior Lake 4pm\n\nMpls. Bombers vs. Waconia 6:30 \n\nUrbank\n\nEden Prairie vs. LeCenter 1:30pm\n\nJordan Millers vs. Verndale 4pm\n\nMinnetonka vs. Belle Plaine 6:30pm\n\n \n\nTeams and times depend on who wins\, but there will be games in Fergus all day on the on the 16 and then again all day on the 22nd and all day on the 23rd. The 23rd would be the championship games for each class.
X-ALT-DESC;FMTTYPE=text/html:<h1 class="font_0" style="margin: 0px\; padding: 0px\; border: 0px\; outline: 0px\; vertical-align: baseline\; background: 0px 0px\; font-variant-numeric: normal\; font-variant-east-asian: normal\; font-stretch: normal\; font-size: 30px\; line-height: normal\; font-family: anton\, sans-serif\; color: rgb(235\, 231\, 219)\; pointer-events: auto\;"><strong><span style="font-size:12px\;"><span style="color: rgb(0\, 0\, 0)\;"><span style="margin: 0px\; padding: 0px\; border: 0px\; outline: 0px\; vertical-align: baseline\; background: 0px 0px\; text-decoration-line: underline\;">Fergus Falls</span></span></span></strong></h1>\n\n<h1 class="font_0" style="font-variant-numeric: normal\; font-variant-east-asian: normal\; font-stretch: normal\; font-size: 30px\; line-height: normal\; font-family: anton\, sans-serif\; margin: 0px\; padding: 0px\; border: 0px\; outline: 0px\; vertical-align: baseline\; background: 0px 0px\; color: rgb(235\, 231\, 219)\; pointer-events: auto\;"><strong><span style="font-size:12px\;"><span style="color: rgb(0\, 0\, 0)\;">Southwest vs. Clarissa 11am</span></span></strong></h1>\n\n<h1 class="font_0" style="font-variant-numeric: normal\; font-variant-east-asian: normal\; font-stretch: normal\; font-size: 30px\; line-height: normal\; font-family: anton\, sans-serif\; margin: 0px\; padding: 0px\; border: 0px\; outline: 0px\; vertical-align: baseline\; background: 0px 0px\; color: rgb(235\, 231\, 219)\; pointer-events: auto\;"><strong><span style="font-size:12px\;"><span style="color: rgb(0\, 0\, 0)\;">Saint Peter vs. Fergus Falls (Defending Class &quot\;C&quot\; Champs)&nbsp\;1:30pm</span></span></strong></h1>\n\n<h1 class="font_0" style="font-variant-numeric: normal\; font-variant-east-asian: normal\; font-stretch: normal\; font-size: 30px\; line-height: normal\; font-family: anton\, sans-serif\; margin: 0px\; padding: 0px\; border: 0px\; outline: 0px\; vertical-align: baseline\; background: 0px 0px\; color: rgb(235\, 231\, 219)\; pointer-events: auto\;"><strong><span style="font-size:12px\;"><span style="color: rgb(0\, 0\, 0)\;">Burnsville vs. Searles 4pm</span></span></strong></h1>\n\n<h1 class="font_0" style="font-variant-numeric: normal\; font-variant-east-asian: normal\; font-stretch: normal\; font-size: 30px\; line-height: normal\; font-family: anton\, sans-serif\; margin: 0px\; padding: 0px\; border: 0px\; outline: 0px\; vertical-align: baseline\; background: 0px 0px\; color: rgb(235\, 231\, 219)\; pointer-events: auto\;"><strong><span style="font-size:12px\;"><span style="color: rgb(0\, 0\, 0)\;">Becker vs. Rosemount 6:30pm</span></span></strong><br />\n<span style="font-size:12px\;"><span style="color:#000000\;"><span style="margin: 0px\; padding: 0px\; border: 0px\; outline: 0px\; vertical-align: baseline\; background: 0px 0px\; text-decoration-line: underline\;">Games in Other Locations --<br />\nAlexandria:</span></span></span></h1>\n\n<h1 class="font_0" style="margin: 0px\; padding: 0px\; border: 0px\; outline: 0px\; vertical-align: baseline\; background: 0px 0px\; font-variant-numeric: normal\; font-variant-east-asian: normal\; font-stretch: normal\; font-size: 30px\; line-height: normal\; font-family: anton\, sans-serif\; color: rgb(235\, 231\, 219)\; pointer-events: auto\;"><span style="font-size:12px\;"><span style="color:#000000\;">Alexandria vs. Apple Valley 11am</span></span></h1>\n\n<h1 class="font_0" style="margin: 0px\; padding: 0px\; border: 0px\; outline: 0px\; vertical-align: baseline\; background: 0px 0px\; font-variant-numeric: normal\; font-variant-east-asian: normal\; font-stretch: normal\; font-size: 30px\; line-height: normal\; font-family: anton\, sans-serif\; color: rgb(235\, 231\, 219)\; pointer-events: auto\;"><span style="font-size:12px\;"><span style="color:#000000\;">Jordan Alers vs. Mankato 1:30pm</span></span></h1>\n\n<h1 class="font_0" style="margin: 0px\; padding: 0px\; border: 0px\; outline: 0px\; vertical-align: baseline\; background: 0px 0px\; font-variant-numeric: normal\; font-variant-east-asian: normal\; font-stretch: normal\; font-size: 30px\; line-height: normal\; font-family: anton\, sans-serif\; color: rgb(235\, 231\, 219)\; pointer-events: auto\;"><span style="font-size:12px\;"><span style="color:#000000\;">Menagha vs. Prior Lake 4pm</span></span></h1>\n\n<h1 class="font_0" style="margin: 0px\; padding: 0px\; border: 0px\; outline: 0px\; vertical-align: baseline\; background: 0px 0px\; font-variant-numeric: normal\; font-variant-east-asian: normal\; font-stretch: normal\; font-size: 30px\; line-height: normal\; font-family: anton\, sans-serif\; color: rgb(235\, 231\, 219)\; pointer-events: auto\;"><span style="font-size:12px\;"><span style="color:#000000\;">Mpls. Bombers vs. Waconia 6:30</span></span><span style="font-size:12px\;"><span style="color:#000000\;"><span class="wixGuard" style="margin: 0px\; padding: 0px\; border: 0px\; outline: 0px\; vertical-align: baseline\; background: 0px 0px\;">&#8203\;</span></span></span></h1>\n\n<h1 class="font_0" style="margin: 0px\; padding: 0px\; border: 0px\; outline: 0px\; vertical-align: baseline\; background: 0px 0px\; font-variant-numeric: normal\; font-variant-east-asian: normal\; font-stretch: normal\; font-size: 30px\; line-height: normal\; font-family: anton\, sans-serif\; color: rgb(235\, 231\, 219)\; pointer-events: auto\;"><span style="font-size:12px\;"><span style="color:#000000\;"><span style="margin: 0px\; padding: 0px\; border: 0px\; outline: 0px\; vertical-align: baseline\; background: 0px 0px\; text-decoration-line: underline\;">Urbank</span></span></span></h1>\n\n<h1 class="font_0" style="margin: 0px\; padding: 0px\; border: 0px\; outline: 0px\; vertical-align: baseline\; background: 0px 0px\; font-variant-numeric: normal\; font-variant-east-asian: normal\; font-stretch: normal\; font-size: 30px\; line-height: normal\; font-family: anton\, sans-serif\; color: rgb(235\, 231\, 219)\; pointer-events: auto\;"><span style="font-size:12px\;"><span style="color:#000000\;">Eden Prairie vs. LeCenter 1:30pm</span></span></h1>\n\n<h1 class="font_0" style="margin: 0px\; padding: 0px\; border: 0px\; outline: 0px\; vertical-align: baseline\; background: 0px 0px\; font-variant-numeric: normal\; font-variant-east-asian: normal\; font-stretch: normal\; font-size: 30px\; line-height: normal\; font-family: anton\, sans-serif\; color: rgb(235\, 231\, 219)\; pointer-events: auto\;"><span style="font-size:12px\;"><span style="color:#000000\;">Jordan Millers vs. Verndale 4pm</span></span></h1>\n\n<h1 class="font_0" style="margin: 0px\; padding: 0px\; border: 0px\; outline: 0px\; vertical-align: baseline\; background: 0px 0px\; font-variant-numeric: normal\; font-variant-east-asian: normal\; font-stretch: normal\; font-size: 30px\; line-height: normal\; font-family: anton\, sans-serif\; color: rgb(235\, 231\, 219)\; pointer-events: auto\;"><span style="font-size:12px\;"><span style="color:#000000\;">Minnetonka vs. Belle Plaine 6:30pm</span></span></h1>\n\n<h1 class="font_0" style="margin: 0px\; padding: 0px\; border: 0px\; outline: 0px\; vertical-align: baseline\; background: 0px 0px\; font-variant-numeric: normal\; font-variant-east-asian: normal\; font-stretch: normal\; font-size: 30px\; line-height: normal\; font-family: anton\, sans-serif\; color: rgb(235\, 231\, 219)\; pointer-events: auto\;"><span style="font-size:12px\;"><span style="color:#000000\;"><span class="wixGuard" style="margin: 0px\; padding: 0px\; border: 0px\; outline: 0px\; vertical-align: baseline\; background: 0px 0px\;">&#8203\;</span></span></span></h1>\n\n<h1 class="font_0" style="margin: 0px\; padding: 0px\; border: 0px\; outline: 0px\; vertical-align: baseline\; background: 0px 0px\; font-variant-numeric: normal\; font-variant-east-asian: normal\; font-stretch: normal\; font-size: 30px\; line-height: normal\; font-family: anton\, sans-serif\; color: rgb(235\, 231\, 219)\; pointer-events: auto\;"><em><span style="font-size:12px\;"><span style="color: rgb(68\, 73\, 80)\; font-family: Helvetica\, Arial\, sans-serif\; white-space: pre-wrap\; background-color: rgb(241\, 240\, 240)\;">Teams and times depend on who wins\, but there will be games in Fergus all day on the on the 16 and then again all day on the 22nd and all day on the 23rd. The 23rd would be the championship games for each class. </span></span></em></h1>\n
LOCATION:Delagoon Park Fergus Falls\, MN
UID:e.314.57769
SEQUENCE:3
DTSTAMP:20260422T070522Z
URL:https://business.fergusfalls.com/events/details/mn-senior-men-s-baseball-state-tournament-57769
END:VEVENT

END:VCALENDAR
