BEGIN:VCALENDAR
VERSION:2.0
PRODID:-//ChamberMaster//Event Calendar 2.0//EN
METHOD:PUBLISH
X-PUBLISHED-TTL:P3D
REFRESH-INTERVAL:P3D
CALSCALE:GREGORIAN
BEGIN:VEVENT
DTSTART:20151115T003000Z
DTEND:20151115T020000Z
X-MICROSOFT-CDO-ALLDAYEVENT:FALSE
SUMMARY:MNN Warriors vs. The Fergus Falls Locals
DESCRIPTION:The MN Warriors vs. The Fergus Falls Locals
X-ALT-DESC;FMTTYPE=text/html:<strong>The MN Warriors vs. The Fergus Falls Locals </strong><br />\n<br />\n&nbsp\;
LOCATION:Fergus Falls Community Ice Arena Don't miss this fabulous exhibition game! A Fergus Falls adult team has been assembled to play an exhibition game against the MN Warriors. The MN Warriors is made up of individuals who have served the United States. This night will honor all who have served and will benefit the MN Warriors and FF Youth Hockey. Post game part at the Fergus Falls VFW.
UID:e.314.26462
SEQUENCE:3
DTSTAMP:20260426T030426Z
URL:https://business.fergusfalls.com/events/details/mnn-warriors-vs-the-fergus-falls-locals-11-14-2015-26462
END:VEVENT

END:VCALENDAR
