BEGIN:VCALENDAR
VERSION:2.0
PRODID:-//ChamberMaster//Event Calendar 2.0//EN
METHOD:PUBLISH
X-PUBLISHED-TTL:P3D
REFRESH-INTERVAL:P3D
CALSCALE:GREGORIAN
BEGIN:VEVENT
DTSTART:20161208T230000Z
DTEND:20161209T010000Z
X-MICROSOFT-CDO-ALLDAYEVENT:FALSE
SUMMARY:Mohagen Real Estate "PPF" Client Appreciation Night
DESCRIPTION:Join the team at Mohagen Real Estate as they celebrate their 10th Anniversary with "PPF" Client Appreciation Night (Past\, Present & Future Clients). Stop by for a little holiday cheer with Sue\, Dan and Pat.\n\nSample delicious gourmet chocolate from Terroir Chocolates along with craft beer samples. Everyone is welcome to attend.\n\n(Office is conveniently located across from Service Food on Vine St. next to Tysdal Chiropractic & Lakes Area Web Services).
X-ALT-DESC;FMTTYPE=text/html:Join the team at Mohagen Real Estate as they celebrate their 10th Anniversary with &quot\;PPF&quot\; Client Appreciation Night (Past\, Present &amp\; Future Clients). Stop by for a little holiday cheer with Sue\, Dan and Pat.<br />\nSample delicious gourmet chocolate from Terroir Chocolates along with craft beer samples. Everyone is welcome to attend.<br />\n(Office is conveniently located across from Service Food on Vine St. next to Tysdal Chiropractic &amp\; Lakes Area Web Services).
LOCATION:130 S. Vine St. Fergus Falls\, MN
UID:e.314.37213
SEQUENCE:3
DTSTAMP:20260425T022233Z
URL:https://business.fergusfalls.com/events/details/mohagen-real-estate-ppf-client-appreciation-night-37213
END:VEVENT

END:VCALENDAR
