BEGIN:VCALENDAR
VERSION:2.0
PRODID:-//ChamberMaster//Event Calendar 2.0//EN
METHOD:PUBLISH
X-PUBLISHED-TTL:P3D
REFRESH-INTERVAL:P3D
CALSCALE:GREGORIAN
BEGIN:VEVENT
DTSTART:20190915T200000Z
DTEND:20190915T210000Z
X-MICROSOFT-CDO-ALLDAYEVENT:FALSE
SUMMARY:MOM+ SON {the ADVENTURE awaits}
DESCRIPTION:More details coming soon!\n\nBut we have a date and location locked in for our 1st Annual Mom + Son Event!
X-ALT-DESC;FMTTYPE=text/html:<span>More details coming soon!<br />\nBut we have a date and location locked in for our 1st Annual Mom + Son Event! </span>
LOCATION:
UID:e.314.53966
SEQUENCE:3
DTSTAMP:20260422T222657Z
URL:https://business.fergusfalls.com/events/details/mom-son-the-adventure-awaits-53966
END:VEVENT

END:VCALENDAR
