BEGIN:VCALENDAR
VERSION:2.0
PRODID:-//ChamberMaster//Event Calendar 2.0//EN
METHOD:PUBLISH
X-PUBLISHED-TTL:P3D
REFRESH-INTERVAL:P3D
CALSCALE:GREGORIAN
BEGIN:VEVENT
DTSTART:20170911T220000Z
DTEND:20170912T040000Z
X-MICROSOFT-CDO-ALLDAYEVENT:FALSE
SUMMARY:Monday Night Football-Vikings Ticket Giveaway w/Z103 at Socials
DESCRIPTION:Monday Night Football-Vikings Ticket Giveaway w/Z103 at Socials\n\n\n\nVIKINGS on Monday Night Football AND Vikings ticket giveaway with our friends from Z103-Real Rock!\n\n\n\nWe will be giving away tickets to an upcoming Vikings game at US Bank stadium\, lower level row 18!! Must be present on the 11th at Socials for your chance(s) to register. Throughout the game there will be chances to win the tickets with the final giveaway at the conclusion of the Vikings game (Must be present on the 11th to win)! Join us for FUN\, and enjoy one of our 14 beers on tap or a 14" single topping pizza for only $10! See you on the 11th at Socials!\n\n\n\nJoin the crew from Z103 at Socials Bar and Grill and watch the MN Vikings take on Adrian Peterson and the New Orleans Saints! Monday Night Football at Socials is a great way to experience the season opener!
X-ALT-DESC;FMTTYPE=text/html:<span style="font-size: 18px\;">Monday Night Football-Vikings Ticket Giveaway w/Z103 at Socials</span><br />\n<br />\n<span class="_4n-j _3cht fsl" data-testid="event-permalink-details">VIKINGS on Monday Night Football AND Vikings ticket giveaway with our friends from Z103-Real Rock!<br />\n<br />\nWe will be giving away tickets to an upcoming Vikings game at US Bank stadium\, lower level row 18!! Must be present on the 11th at Socials for your chance(s) to register. Throughout the game there will be chances to win the tickets with the final giveaway at the conclusion of the Vikings game (Must be present on the 11th to win)! Join us for FUN\, and enjoy one of our 14 beers on tap or a 14&quot\; single topping pizza for only $10! See you on the 11th at Socials!<br />\n<br />\nJoin the crew from Z103 at Socials Bar and Grill and watch the MN Vikings take on Adrian Peterson and the New Orleans Saints! Monday Night Football at Socials is a great way to experience the season opener!</span>
LOCATION:Socials Bar & Grill 1815 W Lincoln Ave Fergus Falls Mn 56537
UID:e.314.41321
SEQUENCE:3
DTSTAMP:20260424T110040Z
URL:https://business.fergusfalls.com/events/details/monday-night-football-vikings-ticket-giveaway-w-z103-at-socials-41321
END:VEVENT

END:VCALENDAR
