BEGIN:VCALENDAR
VERSION:2.0
PRODID:-//ChamberMaster//Event Calendar 2.0//EN
METHOD:PUBLISH
X-PUBLISHED-TTL:P3D
REFRESH-INTERVAL:P3D
CALSCALE:GREGORIAN
BEGIN:VEVENT
DTSTART:20180515T170000Z
DTEND:20180515T170000Z
X-MICROSOFT-CDO-ALLDAYEVENT:FALSE
SUMMARY:Monthly Arts Networking
DESCRIPTION:ARTS NETWORKING BROWN BAG LUNCH\n\nWhen: Every Third Tuesday\, 12-1pm\n\nWhere: StudioK\n\nCost: Free\n\n\n\nStay connected\; share ideas\, news and events\; develop partnerships\; build a stronger arts community! Open to artists\, arts administrators\, community members\, and anyone interested in the arts. BYOBBL (Bring your own brown bag lunch)!\n\n\n\nBring along any flyers\, brochures\, or information on upcoming events and opportunities.
X-ALT-DESC;FMTTYPE=text/html:<span class="_4n-j _3cht fsl" data-testid="event-permalink-details">ARTS NETWORKING BROWN BAG LUNCH<br />\nWhen: Every Third Tuesday\, 12-1pm<br />\nWhere: StudioK<br />\nCost: Free<br />\n<br />\nStay connected\; share ideas\, news and events\; develop partnerships\; build a stronger arts community! Open to artists\, arts administrators\, community members\, and anyone interested in the arts. BYOBBL (Bring your own brown bag lunch)!<br />\n<br />\nBring along any flyers\, brochures\, or information on upcoming events and opportunities.</span>
LOCATION:Kaddatz Galleries 111 W Lincoln Ave\, Fergus Falls
UID:e.314.47422
SEQUENCE:3
DTSTAMP:20260423T224222Z
URL:https://business.fergusfalls.com/events/details/monthly-arts-networking-05-15-2018-47422
END:VEVENT

END:VCALENDAR
