BEGIN:VCALENDAR
VERSION:2.0
PRODID:-//ChamberMaster//Event Calendar 2.0//EN
METHOD:PUBLISH
X-PUBLISHED-TTL:P3D
REFRESH-INTERVAL:P3D
CALSCALE:GREGORIAN
BEGIN:VEVENT
DTSTART:20170207T231500Z
DTEND:20170208T001500Z
X-MICROSOFT-CDO-ALLDAYEVENT:FALSE
SUMMARY:Monthly YPN Social Committee Meeting
DESCRIPTION:Want to get involved in YPN? Do you like planning events? Are you interested in making great contacts with fellow young professionals and local businesses? Consider joining the YPN Social Committee!\n\n\n\nTuesday\, February 7th will be our very first meeting! This meeting will focus on the purpose and benefits of the Social Committee and what you can expect to do as a member of the Social Committee. There is no obligation for commitment at this initial meeting\, just come and see what we're about!\n\n\n\nQuestions? Contact Emily Sivertson at emily.sivertson@twsl.com
X-ALT-DESC;FMTTYPE=text/html:Want to get involved in YPN? Do you like planning events? Are you interested in making great contacts with fellow young professionals and local businesses? Consider joining the YPN Social Committee!<br />\n<br />\nTuesday\, February 7th will be our very first meeting! This meeting will focus on the purpose and benefits of the Social Committee and what you can expect to do as a member of the Social Committee. There is no obligation for commitment at this initial meeting\, just come and see what we&#39\;re about!<br />\n<br />\nQuestions? Contact Emily Sivertson at <a href="mailto:emily.sivertson@twsl.com">emily.sivertson@twsl.com</a>
LOCATION:Socials Bar & Grill 1815 West Lincoln Ave Fergus Falls\, MN 56537
UID:e.314.38209
SEQUENCE:3
DTSTAMP:20260424T225624Z
URL:https://business.fergusfalls.com/events/details/monthly-ypn-social-committee-meeting-38209
END:VEVENT

END:VCALENDAR
