BEGIN:VCALENDAR
VERSION:2.0
PRODID:-//ChamberMaster//Event Calendar 2.0//EN
METHOD:PUBLISH
X-PUBLISHED-TTL:P3D
REFRESH-INTERVAL:P3D
CALSCALE:GREGORIAN
BEGIN:VEVENT
DTSTART:20171007T003000Z
DTEND:20171007T020000Z
X-MICROSOFT-CDO-ALLDAYEVENT:FALSE
SUMMARY:Moon Light Hike
DESCRIPTION:Moderate paced - 4 miles - 1.5 hours
X-ALT-DESC;FMTTYPE=text/html:Moderate paced - 4 miles - 1.5 hours
LOCATION:Meet at One-Mile Prairie HWY 210 East and 19th Ave (across from Jaeger Furniture)- Park at picnic shelter.
UID:e.314.40963
SEQUENCE:3
DTSTAMP:20260424T104106Z
URL:https://business.fergusfalls.com/events/details/moon-light-hike-40963
END:VEVENT

END:VCALENDAR
