BEGIN:VCALENDAR
VERSION:2.0
PRODID:-//ChamberMaster//Event Calendar 2.0//EN
METHOD:PUBLISH
X-PUBLISHED-TTL:P3D
REFRESH-INTERVAL:P3D
CALSCALE:GREGORIAN
BEGIN:VEVENT
DTSTART:20161214T220000Z
DTEND:20161215T010000Z
X-MICROSOFT-CDO-ALLDAYEVENT:FALSE
SUMMARY:Moore Engineering Holiday Open House
DESCRIPTION:Celebrate the Season with Us!\n\nHoliday Open House\n\nEnjoy refreshments and hors d'oeuvres.\n\nGuests\, spouses and employees welcome.
X-ALT-DESC;FMTTYPE=text/html:Celebrate the Season with Us!<br />\nHoliday Open House<br />\nEnjoy refreshments and hors d&#39\;oeuvres.<br />\nGuests\, spouses and employees welcome.<br />\n&nbsp\;
LOCATION:Moore Engineering 925 10th Avenue East West Fargo\, ND 58078
UID:e.314.36984
SEQUENCE:3
DTSTAMP:20260425T034601Z
URL:https://business.fergusfalls.com/events/details/moore-engineering-holiday-open-house-36984
END:VEVENT

END:VCALENDAR
