BEGIN:VCALENDAR
VERSION:2.0
PRODID:-//ChamberMaster//Event Calendar 2.0//EN
METHOD:PUBLISH
X-PUBLISHED-TTL:P3D
REFRESH-INTERVAL:P3D
CALSCALE:GREGORIAN
BEGIN:VEVENT
DTSTART:20151216T220000Z
DTEND:20151217T010000Z
X-MICROSOFT-CDO-ALLDAYEVENT:FALSE
SUMMARY:moore engineering\,inc. Customer Appreciation Open House
DESCRIPTION:Please Attend Our Annual Customer Appreciation Open House\n\n\n\nCelebrate the holiday season with us while enjoying refreshments and hor d'oeuvers!\n\nGuests\, spouses and employees welcome.
X-ALT-DESC;FMTTYPE=text/html:Please Attend Our Annual Customer Appreciation Open House<br />\n<br />\nCelebrate the holiday season with us while enjoying refreshments and hor d&#39\;oeuvers!<br />\nGuests\, spouses and employees welcome.<br />\n&nbsp\;
LOCATION:
UID:e.314.27797
SEQUENCE:3
DTSTAMP:20260425T232639Z
URL:https://business.fergusfalls.com/events/details/moore-engineering-inc-customer-appreciation-open-house-12-16-2015-27797
END:VEVENT

END:VCALENDAR
